BEGIN:VCALENDAR
VERSION:2.0
PRODID:-//ChamberMaster//Event Calendar 2.0//EN
METHOD:PUBLISH
X-PUBLISHED-TTL:P3D
REFRESH-INTERVAL:P3D
CALSCALE:GREGORIAN
BEGIN:VEVENT
DTSTART:20251211T013000Z
DTEND:20251211T030000Z
X-MICROSOFT-CDO-ALLDAYEVENT:FALSE
SUMMARY:2025 Service of Remembrance\, A Community Memorial Service
DESCRIPTION:Lumina's 2025 Service of Remembrance is on Wednesday December 10 at 5:30-7:00 pm at the Corvallis Community Center\, 2601 NW Tyler Ave. You and your family are invited to join us in-person to remember those who have died. We will read their names\, display their photos and light candles in their memory. \n\n\n\nYou may honor anyone who has died\, no hospice affiliation required. To submit a name for the Service\, email the name\, photo(s)\, and dates of birth and death to: grief@luminahospice.org or in-person at Lumina\, 720 SW 4th Street\, Corvallis no later than December 1. Please include your contact information for any follow up needs. For more information or any questions\, call Lumina at 541.757.9616 or visit luminahospice.org/sor
X-ALT-DESC;FMTTYPE=text/html:<div>\n<div>\n<div>\n<p><span style="color:rgb(79\, 59\, 128)">Lumina&rsquo\;s 2025 Service of Remembrance is on Wednesday December 10 at 5:30-7:00 pm at the Corvallis Community Center\, 2601 NW Tyler Ave. You and your family are invited to join us in-person to remember those who have died. We will read their names\, display their photos and light candles in their memory. </span></p>\n</div>\n\n<div>\n<p><span style="color:rgb(79\, 59\, 128)">You may honor anyone who has died\, no hospice affiliation required. To submit a name for the Service\, e</span><span style="color:rgb(79\, 59\, 128)">mail the name\, photo(s)\, and dates of birth and death to: grief@luminahospice.org or in-person at Lumina\, 720 SW 4</span><sup>th</sup><span style="color:rgb(79\, 59\, 128)"> Street\, Corvallis no later than December 1. Please include your contact information for any follow up needs. For more information or any questions\, call Lumina at 541.757.9616 or visit luminahospice.org/sor</span></p>\n</div>\n</div>\n</div>\n
LOCATION:Corvallis Community Center 2601 NW Tyler Ave. Corvallis\, OR 97330
UID:e.2569.6106
SEQUENCE:3
DTSTAMP:20260419T231106Z
URL:https://business.albanychamber.com/events/details/2025-service-of-remembrance-a-community-memorial-service-6106
END:VEVENT

END:VCALENDAR
