BEGIN:VCALENDAR
VERSION:2.0
PRODID:-//ChamberMaster//Event Calendar 2.0//EN
METHOD:PUBLISH
X-PUBLISHED-TTL:P3D
REFRESH-INTERVAL:P3D
CALSCALE:GREGORIAN
BEGIN:VEVENT
DTSTART:20250807T170000Z
DTEND:20250807T183000Z
X-MICROSOFT-CDO-ALLDAYEVENT:FALSE
SUMMARY:Advance Care Planning
DESCRIPTION:This community presentation discusses what is "Advance Care Planning" and why is it important. How to think about the type of medical care you want in the future and how to discuss this with the people that need to know. What is a POLST and do I need one? What is an Advance Directive and do I need one? We will have Advance Directive copies on hand and will allow time to complete it\, for those that wish to do so.
X-ALT-DESC;FMTTYPE=text/html:This community presentation discusses what is &quot\;Advance Care Planning&quot\; and why is it important. How to think about the type of medical care you want in the future and how to discuss this with the people that need to know. What is a POLST and do I need one? What is an Advance Directive and do I need one? We will have Advance Directive copies on hand and will allow time to complete it\, for those that wish to do so.&nbsp\;
LOCATION:Lebanon Senior Center 80 Tangent Street Lebanon\, OR 97355
UID:e.2569.5546
SEQUENCE:3
DTSTAMP:20260419T184036Z
URL:https://business.albanychamber.com/events/details/advance-care-planning-5546
END:VEVENT

END:VCALENDAR
