BEGIN:VCALENDAR
VERSION:2.0
PRODID:-//ChamberMaster//Event Calendar 2.0//EN
METHOD:PUBLISH
X-PUBLISHED-TTL:P3D
REFRESH-INTERVAL:P3D
CALSCALE:GREGORIAN
BEGIN:VEVENT
DTSTART:20250724T233000Z
DTEND:20250725T000000Z
X-MICROSOFT-CDO-ALLDAYEVENT:FALSE
SUMMARY:Ambassador Ribbon Cutting - Family Tree Relief Nursery
DESCRIPTION:Join us for our Ambassador Ribbon Cutting with Family Tree Relief Nursery!\nLocation: 1055 Bain St.\, Albany OR 97322
X-ALT-DESC;FMTTYPE=text/html:<span style="font-size:22px\;"><span style="font-family:arial\;">Join us for our Ambassador Ribbon Cutting with&nbsp\;</span></span><span style="color:#008000\;"><strong><span style="font-size:20px\;"><span style="font-family:arial\;">Family Tree Relief Nursery!</span></span></strong></span>\n<p class="cvGsUA direction-ltr align-start para-style-body" style="color: rgb(255\, 49\, 49)\; font-family: &quot\;YAFdJjTk5UU 0&quot\;\, _fb_\, auto\; --cyV3ZQ: 13.3333px\; --gJPlXQ: 1.4\; line-height: 18px\;"><span style="color:#000000\;"><span style="font-size:22px\;"><span style="font-family:arial\;"><span class="OYPEnA text-decoration-none text-strikethrough-none">Location: </span></span></span></span><span style="font-size:22px\;"><span style="font-family:arial\;"><span class="OYPEnA text-decoration-none text-strikethrough-none"><u>1055 Bain St.</u></span></span><u><span style="font-family:arial\;"><span class="OYPEnA text-decoration-none text-strikethrough-none">\, Albany OR 97322</span></span></u></span></p>\n
LOCATION:1055 Bain St. Albany\, OR 97322
UID:e.2569.5533
SEQUENCE:3
DTSTAMP:20260419T171849Z
URL:https://business.albanychamber.com/events/details/ambassador-ribbon-cutting-family-tree-relief-nursery-5533
END:VEVENT

END:VCALENDAR
