BEGIN:VCALENDAR
VERSION:2.0
PRODID:-//ChamberMaster//Event Calendar 2.0//EN
METHOD:PUBLISH
X-PUBLISHED-TTL:P3D
REFRESH-INTERVAL:P3D
CALSCALE:GREGORIAN
BEGIN:VEVENT
DTSTART:20250821T151500Z
DTEND:20250821T161500Z
X-MICROSOFT-CDO-ALLDAYEVENT:FALSE
SUMMARY:Annual Greeters Meeting 8/21/25
DESCRIPTION:Join us for our Annual Greeters Meeting!\n\nLocated at NW Natural:7150 Supra Dr SW \nAlbany OR 97321\n\n \n\n\n\n\n8:15am\n\n\n	New and prospective members welcome to attend! We will be going over our yearly ground rules for Greeters.\n	This Greeters has no host\, everyone is welcome to bring a door prize (No $ limit)\, and Bring your Company Swag for the Swag Table!\n	Snacks provided by the North Albany IGA\, Coffee provided by Good Grounds Coffee!\n	Want to be a Greeters Facilitator? We will be changing facilitators at this meeting. Now is the time to step up!\n\n\n\nGreeters is a morning meet and greet session\, held at a different chamber business every week. You can learn about a local business while enjoying hot coffee\, a snack and making connections with our business community. Join us ~ it's free!
X-ALT-DESC;FMTTYPE=text/html:<strong><span style="font-size:22px\;"><font face="Arial\, sans-serif">Join us for our Annual Greeters Meeting!</font></span></strong><br />\n<span style="font-size:18px\;"><span style="font-family:arial\;">Located at <span style="color: rgb(31\, 31\, 31)\; white-space-collapse: preserve\;">NW Natural:</span></span></span><u><strong><span style="font-size:20px\;"><span style="color:#FF0000\;">7150 Supra Dr SW&nbsp\;</span></span></strong></u>\n<div style="color: rgb(31\, 31\, 31)\; font-family: Roboto\, Arial\, sans-serif\; font-size: medium\; display: inline\;"><u><span style="color:#FF0000\;"><strong><span style="font-size:20px\;"><span style="font-weight: bold\;">Albany OR 97321</span></span></strong></span></u>\n<div class="vk_sh vk_bk" style="color: var(--COEmY)\; line-height: 24px\; padding-top: 18px\; font-weight: 400 !important\; font-size: 16px !important\;">\n<div>&nbsp\;</div>\n</div>\n</div>\n<br />\n<span style="font-size:18px\;"><span class="WdYUQQ text-decoration-none text-strikethrough-none" style="color: rgb(0\, 0\, 0)\;">8:15am</span></span>\n\n<ul>\n	<li><span style="font-size:16px\;"><span class="WdYUQQ text-decoration-none text-strikethrough-none" style="color: rgb(0\, 0\, 0)\;">New and prospective members welcome to attend! We will be going over our yearly ground rules for Greeters.</span></span></li>\n	<li><span style="font-size:16px\;"><span class="WdYUQQ text-decoration-none text-strikethrough-none" style="color: rgb(0\, 0\, 0)\;">This Greeters has no host\, everyone is welcome to bring a door prize </span><span class="WdYUQQ text-decoration-none text-strikethrough-none" style="color: rgb(0\, 0\, 0)\; font-style: italic\;">(No $ limit)\,</span><span class="WdYUQQ text-decoration-none text-strikethrough-none" style="color: rgb(0\, 0\, 0)\;"> and Bring your Company Swag for the Swag Table!</span></span></li>\n	<li><span style="font-size:16px\;"><span class="WdYUQQ text-decoration-none text-strikethrough-none" style="color: rgb(0\, 0\, 0)\;">Snacks provided by the </span><span class="WdYUQQ text-decoration-none text-strikethrough-none" style="color: rgb(0\, 0\, 0)\; font-style: italic\;">North Albany IGA</span><span class="WdYUQQ text-decoration-none text-strikethrough-none" style="color: rgb(0\, 0\, 0)\;">\, Coffee provided by </span><span class="WdYUQQ text-decoration-none text-strikethrough-none" style="color: rgb(0\, 0\, 0)\; font-style: italic\;">Good Grounds Coffee!</span></span></li>\n	<li><span style="font-size:16px\;"><span class="WdYUQQ text-decoration-underline text-strikethrough-none" style="color: rgb(0\, 0\, 0)\;">Want to be a Greeters Facilitator?</span><span class="WdYUQQ text-strikethrough-none text-decoration-none" style="color: rgb(0\, 0\, 0)\;"> We will be changing facilitators at this meeting. Now is the time to step up!</span></span></li>\n</ul>\n<br />\n<span style="color: rgb(85\, 85\, 85)\; font-family: Arial\, sans-serif\; font-size: 14px\;">Greeters is a morning meet and greet session\, held at a different chamber business every week. You can learn about a local business while enjoying hot coffee\, a snack and making connections with our business community. Join us ~ it&#39\;s free!</span>
LOCATION:
UID:e.2569.5545
SEQUENCE:3
DTSTAMP:20260419T184312Z
URL:https://business.albanychamber.com/events/details/annual-greeters-meeting-8-21-25-5545
END:VEVENT

END:VCALENDAR
