BEGIN:VCALENDAR
VERSION:2.0
PRODID:-//ChamberMaster//Event Calendar 2.0//EN
METHOD:PUBLISH
X-PUBLISHED-TTL:P3D
REFRESH-INTERVAL:P3D
CALSCALE:GREGORIAN
BEGIN:VEVENT
DTSTART:20250913T230000Z
DTEND:20250914T030000Z
X-MICROSOFT-CDO-ALLDAYEVENT:FALSE
SUMMARY:Backyard BBQ Battle & Brews
DESCRIPTION:Do you get compliments for your skills on the grill? Enter to compete at Deluxe Brewing's Backyard BBQ Battle and Brews and show everyone what you've got! You could be the next Backyard BBQ Champion and win a cash prize and get the ultimate bragging rights\, all while helping support an organization dedicated to advocating for foster youth. Mark your calendars (Sept. 13th) and get ready to fire up those grills! Registration and rules are available! Registration is limited\, so get your team together and sign up today!
X-ALT-DESC;FMTTYPE=text/html:Do you get compliments for your skills on the grill? Enter to compete at Deluxe Brewing&#39\;s Backyard BBQ Battle and Brews and show everyone what you&rsquo\;ve got! You could be the next Backyard BBQ Champion and win a cash prize and get the ultimate bragging rights\, all while helping support an organization dedicated to advocating for foster youth. Mark your calendars (Sept. 13th) and get ready to fire up those grills! Registration and rules are available! Registration is limited\, so get your team together and sign up today!
LOCATION:Deluxe Brewing 635 Water Ave NE Ste B Albany\, OR 97321
UID:e.2569.5534
SEQUENCE:3
DTSTAMP:20260419T184143Z
URL:https://business.albanychamber.com/events/details/backyard-bbq-battle-brews-09-13-2025-5534
END:VEVENT

END:VCALENDAR
