BEGIN:VCALENDAR
VERSION:2.0
PRODID:-//ChamberMaster//Event Calendar 2.0//EN
METHOD:PUBLISH
X-PUBLISHED-TTL:P3D
REFRESH-INTERVAL:P3D
CALSCALE:GREGORIAN
BEGIN:VEVENT
DTSTART:20250529T230000Z
DTEND:20250530T010000Z
X-MICROSOFT-CDO-ALLDAYEVENT:FALSE
SUMMARY:Business Unwind - SafeHaven & Subaru 5/29/25
DESCRIPTION:It's time to kick off those shoes....untie that tie.....and UNWIND!!!\n\nBusiness Unwind is an opportunity to make connections in a relaxed\, after hours environment\, have some fun and learn about the hosting business/organization.\n\nHosted by the SafeHaven & Subaru\n\nThursday\, May 29th\n\n4-6 pm\n\nLocation: Subaru of Albany 520 Airport Rd SE Albany\n\n\n\nFREE to Attend But You Must Register!\n\n \n\nJoin Us!\n\n\n	Beer from Deluxe Brewing\n	Charcuterie Board & Wine from Grocery Outlet\n	Italian Sodas from Spirit Espresso\n	Networking opportunities
X-ALT-DESC;FMTTYPE=text/html:<br />\n<span style="font-size:28px\;"><span style="color:#000080\;"><strong><span style="font-family: Helvetica\, Arial\, sans-serif\; white-space: pre-wrap\;">It&#39\;s time to kick off those shoes....untie that tie.....and UNWIND!!!</span></strong></span></span><br />\nBusiness Unwind is an opportunity to make connections in a relaxed\, after hours environment\, have some fun and learn about the hosting business/organization.\n<div style="text-align: center\;">\n<hr /><span style="color:#4B0082\;"><span style="font-size:26px\;"><span style="font-family:arial\;"><strong>Hosted by the SafeHaven &amp\; Subaru</strong></span></span></span></div>\n\n<div style="text-align: center\;"><span style="color:#4B0082\;"><span style="font-size:26px\;"><span style="font-family:arial\;"><strong><span trebuchet="">Thursday\, May 29th</span></strong></span></span><br />\n<strong style="font-family: arial\; font-size: 26px\; text-align: center\;">4-6 pm</strong></span><br />\n<span style="font-size:20px\;"><span style="font-family:arial\;"><span class="OYPEnA font-feature-liga-off font-feature-clig-off font-feature-calt-off text-decoration-none text-strikethrough-none" style="color: rgb(22\, 47\, 110)\; font-weight: 700\; font-kerning: normal\;">Location: Subaru of Albany 520 Airport Rd SE Albany</span></span></span><br />\n<br />\n<em><strong><span style="color:#000000\;"><span style="font-size:26px\;"><span style="font-family:arial\;"><span style="background-color:#FFFF00\;">FREE to Attend&nbsp\;But You Must Register!</span></span></span></span></strong></em><br />\n&nbsp\;</div>\n\n<div style=""><span style="color:#0000FF\;"><u><span style="font-size:36px\;"><strong><em>Join Us!</em></strong></span></u></span></div>\n\n<ul>\n	<li style=""><span style="color:#0000CD\;"><span style="font-size:26px\;">Beer from Deluxe Brewing</span></span></li>\n	<li style=""><span style="color:#0000CD\;"><span style="font-size:26px\;">Charcuterie Board &amp\; Wine from Grocery Outlet</span></span></li>\n	<li style=""><span style="color:#0000CD\;"><span style="font-size:26px\;">Italian Sodas from Spirit Espresso</span></span></li>\n	<li style=""><span style="color:#0000CD\;"><span style="font-size:26px\;">Networking opportunities</span></span></li>\n</ul>\n
LOCATION:Subaru of Albany 520 Airport Rd SE Albany
UID:e.2569.4622
SEQUENCE:3
DTSTAMP:20260419T130204Z
URL:https://business.albanychamber.com/events/details/business-unwind-safehaven-subaru-5-29-25-4622
END:VEVENT

END:VCALENDAR
