BEGIN:VCALENDAR
VERSION:2.0
PRODID:-//ChamberMaster//Event Calendar 2.0//EN
METHOD:PUBLISH
X-PUBLISHED-TTL:P3D
REFRESH-INTERVAL:P3D
CALSCALE:GREGORIAN
BEGIN:VEVENT
DTSTART:20220514T150000Z
DTEND:20220514T210000Z
X-MICROSOFT-CDO-ALLDAYEVENT:FALSE
SUMMARY:CARDV's Run/Walk 5K for Safe Families
DESCRIPTION:Our annual race is back\, live and in-person for it's 20th Anniversary! The CARDV Run/Walk 5K for Safe Families is set for Saturday\, May 14th\, 2022 at Austin Hall Quad on Oregon State University's Campus. Race central opens at 8:00 a.m.   Race starts at 9:00 a.m. Pre-packaged snacks & water will be provided. Masks and social distancing are highly encouraged for this event. Registration $35 for adults\, $10 for kids (12 and under).
X-ALT-DESC;FMTTYPE=text/html:Our annual race is back\, live and in-person for it&rsquo\;s 20th Anniversary! The CARDV Run/Walk 5K for Safe Families is set for Saturday\, May 14th\, 2022 at Austin Hall Quad on Oregon State University&rsquo\;s Campus. Race central opens at 8:00 a.m. &ndash\; Race starts at 9:00 a.m. Pre-packaged snacks &amp\; water will be provided. Masks and social distancing are highly encouraged for this event. Registration $35 for adults\, $10 for kids (12 and under).
LOCATION:OSU Campus\, Austin Hall Quad (2751 SW Jefferson Way)
UID:e.2569.3808
SEQUENCE:3
DTSTAMP:20260423T092405Z
URL:https://business.albanychamber.com/events/details/cardv-s-run-walk-5k-for-safe-families-3808
END:VEVENT

END:VCALENDAR
