BEGIN:VCALENDAR
VERSION:2.0
PRODID:-//ChamberMaster//Event Calendar 2.0//EN
METHOD:PUBLISH
X-PUBLISHED-TTL:P3D
REFRESH-INTERVAL:P3D
CALSCALE:GREGORIAN
BEGIN:VEVENT
DTSTART:20260910T173000Z
DTEND:20260910T190000Z
X-MICROSOFT-CDO-ALLDAYEVENT:FALSE
SUMMARY:Caregiver Connections at Mennonite Village Lakeside Center
DESCRIPTION:A group for family caregivers that provides a safe and inviting space to share common experiences and support one another along the difficult path of the caregiving journey.
X-ALT-DESC;FMTTYPE=text/html:A group for family caregivers that provides a safe and inviting space to share common experiences and support one another along the difficult path of the caregiving journey.
LOCATION:Mennonite Village Lakeside Center 2180 54th Ave. SE Albany\, OR 97322
UID:e.2569.5831
SEQUENCE:3
DTSTAMP:20260426T014651Z
URL:https://business.albanychamber.com/events/details/caregiver-connections-at-mennonite-village-lakeside-center-09-10-2026-5831
END:VEVENT

END:VCALENDAR
