BEGIN:VCALENDAR
VERSION:2.0
PRODID:-//ChamberMaster//Event Calendar 2.0//EN
METHOD:PUBLISH
X-PUBLISHED-TTL:P3D
REFRESH-INTERVAL:P3D
CALSCALE:GREGORIAN
BEGIN:VEVENT
DTSTART:20250508T173000Z
DTEND:20250508T190000Z
X-MICROSOFT-CDO-ALLDAYEVENT:FALSE
SUMMARY:Caregiver Connections Drop-in Support Group
DESCRIPTION:Caregiver Support: These groups for family caregivers provide a safe and inviting place to share common experiences and support one another along the difficult path of the caregiving journey. Monthly on the 2nd Thursday 10:30am to noon at Mennonite Village Lakeside Center
X-ALT-DESC;FMTTYPE=text/html:Caregiver Support: These groups for family caregivers provide a safe and inviting place to share common experiences and support one another along the difficult path of the caregiving journey. Monthly on the 2nd Thursday 10:30am to noon at Mennonite Village Lakeside Center
LOCATION:Mennonite Village Lakeside Center 2180 54th Ave SE Albany\, OR 97322
UID:e.2569.4617
SEQUENCE:3
DTSTAMP:20260419T142537Z
URL:https://business.albanychamber.com/events/details/caregiver-connections-drop-in-support-group-4617
END:VEVENT

END:VCALENDAR
