BEGIN:VCALENDAR
VERSION:2.0
PRODID:-//ChamberMaster//Event Calendar 2.0//EN
METHOD:PUBLISH
X-PUBLISHED-TTL:P3D
REFRESH-INTERVAL:P3D
CALSCALE:GREGORIAN
BEGIN:VEVENT
DTSTART:20250429T223000Z
DTEND:20250429T233000Z
X-MICROSOFT-CDO-ALLDAYEVENT:FALSE
SUMMARY:Chamber 101 - 4/29/25
DESCRIPTION:Chamber 101 is an informal session where you will have the opportunity to learn more about the Chamber\, what we do and how you can maximize your membership. You can meet the Chamber staff\, and hear about the programs and events that we offer\, as well as the behind the scenes activities the Chamber is involved in.\n\n\n\nRegister Here ----- \n\n\n\nor Call 541-926-1517 to RSVP or email Erica at ehogan@albanychamber.com.
X-ALT-DESC;FMTTYPE=text/html:Chamber 101 is an informal session where you will have the opportunity to learn more about the Chamber\, what we do and how you can maximize your membership. You can meet the Chamber staff\, and hear about the programs and events that we offer\, as well as the behind the scenes activities the Chamber is involved in.<br />\n<br />\n<strong><span style="font-size:22px\;"><span style="font-family:arial\;">Register Here -----&gt\;<br />\n<br />\nor&nbsp\;Call 541-926-1517 to RSVP or email Erica at ehogan@albanychamber.com.</span></span></strong>
LOCATION:Chamber office\, 435 W. First Ave.
UID:e.2569.4605
SEQUENCE:3
DTSTAMP:20260419T122730Z
URL:https://business.albanychamber.com/events/details/chamber-101-4-29-25-4605
END:VEVENT

END:VCALENDAR
