BEGIN:VCALENDAR
VERSION:2.0
PRODID:-//ChamberMaster//Event Calendar 2.0//EN
METHOD:PUBLISH
X-PUBLISHED-TTL:P3D
REFRESH-INTERVAL:P3D
CALSCALE:GREGORIAN
BEGIN:VEVENT
DTSTART:20250706T170000Z
DTEND:20250706T190000Z
X-MICROSOFT-CDO-ALLDAYEVENT:FALSE
SUMMARY:Church in the Park
DESCRIPTION:Eastside Christian Church will be having Church in the Park. We will be meeting in Montieth Park at 10 am for our church service followed by a baptism in the river for those who are wanting to participate.
X-ALT-DESC;FMTTYPE=text/html:Eastside Christian Church will be having Church in the Park. We will be meeting in Montieth Park at 10 am for our church service followed by a baptism in the river for those who are wanting to participate.
LOCATION:Montieth Park
UID:e.2569.4627
SEQUENCE:3
DTSTAMP:20260419T170530Z
URL:https://business.albanychamber.com/events/details/church-in-the-park-4627
END:VEVENT

END:VCALENDAR
