BEGIN:VCALENDAR
VERSION:2.0
PRODID:-//ChamberMaster//Event Calendar 2.0//EN
METHOD:PUBLISH
X-PUBLISHED-TTL:P3D
REFRESH-INTERVAL:P3D
CALSCALE:GREGORIAN
BEGIN:VEVENT
DTSTART:20250814T210000Z
DTEND:20250814T223000Z
X-MICROSOFT-CDO-ALLDAYEVENT:FALSE
SUMMARY:Community Drop-in Grief Support Group
DESCRIPTION:Join a network of fellow grievers and explore a different topic each session guided by a grief support counselor. There is no commitment\, just join us when you need support. Examples of topics: what is helpful and unhelpful in grief\, listening to your instincts\, how to outwardly express grief\, and coping with grief during the holidays. Group meets the 2 Thursday of each month from 2pm - 3:30pm at the Lebanon Senior Center
X-ALT-DESC;FMTTYPE=text/html:Join a network of fellow grievers and explore a different topic each session guided by a grief support counselor. There is no commitment\, just join us when you need support. Examples of topics: what is helpful and unhelpful in grief\, listening to your instincts\, how to outwardly express grief\, and coping with grief during the holidays. Group meets the 2 Thursday of each month from 2pm - 3:30pm at the Lebanon Senior Center
LOCATION:Lebanon Senior Center 80 Tangent Street Lebanon\, OR 97355
UID:e.2569.5547
SEQUENCE:3
DTSTAMP:20260419T170531Z
URL:https://business.albanychamber.com/events/details/community-drop-in-grief-support-group-08-14-2025-5547
END:VEVENT

END:VCALENDAR
