BEGIN:VCALENDAR
VERSION:2.0
PRODID:-//ChamberMaster//Event Calendar 2.0//EN
METHOD:PUBLISH
X-PUBLISHED-TTL:P3D
REFRESH-INTERVAL:P3D
CALSCALE:GREGORIAN
BEGIN:VEVENT
DTSTART:20250513T003000Z
DTEND:20250513T020000Z
X-MICROSOFT-CDO-ALLDAYEVENT:FALSE
SUMMARY:Community Drop-in Grief Support Group
DESCRIPTION:Drop-in groups are offered twice each month. Join when you can or when you need support. Groups meet monthly at Lumina on the fourth Monday from 1-2:30pm\, and the second Monday from 5:30 to 7pm.
X-ALT-DESC;FMTTYPE=text/html:Drop-in groups are offered twice each month. Join when you can or when you need support. Groups meet monthly at Lumina on the fourth Monday from 1-2:30pm\, and the second Monday from 5:30 to 7pm.
LOCATION:Lumina Hospice 720 SW 4th Street Corvallis\, OR 97333
UID:e.2569.4619
SEQUENCE:3
DTSTAMP:20260419T125940Z
URL:https://business.albanychamber.com/events/details/community-drop-in-grief-support-group-4619
END:VEVENT

END:VCALENDAR
