BEGIN:VCALENDAR
VERSION:2.0
PRODID:-//ChamberMaster//Event Calendar 2.0//EN
METHOD:PUBLISH
X-PUBLISHED-TTL:P3D
REFRESH-INTERVAL:P3D
CALSCALE:GREGORIAN
BEGIN:VEVENT
DTSTART:20260617T223000Z
DTEND:20260618T000000Z
X-MICROSOFT-CDO-ALLDAYEVENT:FALSE
SUMMARY:Community Drop-in Suicide Bereavement Support Group
DESCRIPTION:This group meets monthly on the 3rd Wednesday from 3:30 - 5pm at Lumina's Community Resource Center\, 720 SW 4th St\, Corvallis\, OR.  Please contact Carla Gabrielsen\, Bereavement Coordinator at Lumina\, if you are planning to attend or for more information. Call Lumina at 541.757.9616.
X-ALT-DESC;FMTTYPE=text/html:<span style="color:rgb(20\, 24\, 39)\; font-family:helvetica neue\,helvetica\,-apple-system\,blinkmacsystemfont\,roboto\,arial\,sans-serif\; font-size:14px">This group meets monthly on the 3rd Wednesday from 3:30 - 5pm at Lumina&rsquo\;s Community Resource Center\, 720 SW 4th St\, Corvallis\, OR.&nbsp\; Please contact Carla Gabrielsen\, Bereavement Coordinator at Lumina\, if you are planning to attend or for more information. Call Lumina at 541.757.9616.</span>
LOCATION:Lumina Hospice 720 SW 4th Street Corvallis\, 97333
UID:e.2569.5951
SEQUENCE:3
DTSTAMP:20260422T194351Z
URL:https://business.albanychamber.com/events/details/community-drop-in-suicide-bereavement-support-group-06-17-2026-5951
END:VEVENT

END:VCALENDAR
