BEGIN:VCALENDAR
VERSION:2.0
PRODID:-//ChamberMaster//Event Calendar 2.0//EN
METHOD:PUBLISH
X-PUBLISHED-TTL:P3D
REFRESH-INTERVAL:P3D
CALSCALE:GREGORIAN
BEGIN:VEVENT
DTSTART:20251004T160000Z
DTEND:20251004T190000Z
X-MICROSOFT-CDO-ALLDAYEVENT:FALSE
SUMMARY:Community Shred Event
DESCRIPTION:Join the 44 North CU team for our end-of-the-year FREE community shred event. If you have old documents you need to securely dispose of\, bring them to our Albany branch to be shredded on site.
X-ALT-DESC;FMTTYPE=text/html:Join the 44 North CU team for our end-of-the-year FREE community shred event. If you have old documents you need to securely dispose of\, bring them to our Albany branch to be shredded on site.
LOCATION:4129 Santiam Hwy SE. Albany\, OR
UID:e.2569.6069
SEQUENCE:3
DTSTAMP:20260419T213854Z
URL:https://business.albanychamber.com/events/details/community-shred-event-6069
END:VEVENT

END:VCALENDAR
