BEGIN:VCALENDAR
VERSION:2.0
PRODID:-//ChamberMaster//Event Calendar 2.0//EN
METHOD:PUBLISH
X-PUBLISHED-TTL:P3D
REFRESH-INTERVAL:P3D
CALSCALE:GREGORIAN
BEGIN:VEVENT
DTSTART:20210810T003000Z
DTEND:20210810T013000Z
X-MICROSOFT-CDO-ALLDAYEVENT:FALSE
SUMMARY:Darkness to Light: Talking with Children about Safety from Sexual Abuse (abuse prevention training)
DESCRIPTION:This interactive training uses a video module and a facilitator-led discussion to cultivate a rich learning environment. During the video you will hear compelling stories from experts and survivors about how talking to kids can help prevent sexual abuse. You will also: 1. Learn why relationships and resilience are the building blocks of safety for children. 2. Receive examples of how to talk about personal safety with children of all ages. 3. Learn how to use everyday opportunities to talk to children about sexual abuse. Please join us via Zoom for this FREE online training! https://abchouse-org.zoom.us/meeting/register/tZYsdOmrqTguGNLII22xr9jx3NCk-EhXGi66
X-ALT-DESC;FMTTYPE=text/html:This interactive training uses a video module and a facilitator-led discussion to cultivate a rich learning environment. During the video you will hear compelling stories from experts and survivors about how talking to kids can help prevent sexual abuse. You will also: 1. Learn why relationships and resilience are the building blocks of safety for children. 2. Receive examples of how to talk about personal safety with children of all ages. 3. Learn how to use everyday opportunities to talk to children about sexual abuse. Please join us via Zoom for this FREE online training! https://abchouse-org.zoom.us/meeting/register/tZYsdOmrqTguGNLII22xr9jx3NCk-EhXGi66
LOCATION:Zoom
UID:e.2569.3672
SEQUENCE:3
DTSTAMP:20260422T081413Z
URL:https://business.albanychamber.com/events/details/darkness-to-light-talking-with-children-about-safety-from-sexual-abuse-abuse-prevention-training-3672
END:VEVENT

END:VCALENDAR
