BEGIN:VCALENDAR
VERSION:2.0
PRODID:-//ChamberMaster//Event Calendar 2.0//EN
METHOD:PUBLISH
X-PUBLISHED-TTL:P3D
REFRESH-INTERVAL:P3D
CALSCALE:GREGORIAN
BEGIN:VEVENT
DTSTART:20250515T230000Z
DTEND:20250516T003000Z
X-MICROSOFT-CDO-ALLDAYEVENT:FALSE
SUMMARY:Death Cafe
DESCRIPTION:At a Death Caf \, people - often strangers - gather to drink tea\, enjoy snacks\, and discuss death. Everyone has an opportunity to share ideas\, opinions\, and questions about death in a supportive and safe environment.
X-ALT-DESC;FMTTYPE=text/html:At a Death Caf&eacute\;\, people - often strangers - gather to drink tea\, enjoy snacks\, and discuss death. Everyone has an opportunity to share ideas\, opinions\, and questions about death in a supportive and safe environment.
LOCATION:Lumina Hospice 720 SW 4th Street Corvallis\, OR 97333
UID:e.2569.4620
SEQUENCE:3
DTSTAMP:20260419T125817Z
URL:https://business.albanychamber.com/events/details/death-cafe-4620
END:VEVENT

END:VCALENDAR
