BEGIN:VCALENDAR
VERSION:2.0
PRODID:-//ChamberMaster//Event Calendar 2.0//EN
METHOD:PUBLISH
X-PUBLISHED-TTL:P3D
REFRESH-INTERVAL:P3D
CALSCALE:GREGORIAN
BEGIN:VEVENT
DTSTART:20260610T183000Z
DTEND:20260610T200000Z
X-MICROSOFT-CDO-ALLDAYEVENT:FALSE
SUMMARY:Emerging Leaders - June 2026
DESCRIPTION:Join us for EMERGING LEADERS for lunch\, connecting with other young pros and professional development!\n\nEmerging Leaders is a group created specifically for the young professionals in our business community (and those young at heart) that is focused on professional development and building business connections.\nWednesday\, June 10th\n\nComfort Suites\n\n11:30am-1pm\n\n$25 Members\, $35 Non-Members\n\nSPONSORED BY \n\nThis Could Be You!\nGuest Speaker\n\nAmanda Curran\, Director of Retail\, Central Willamette Credit Union\n\n\n\n\n\nDonate a Door Prize! (Members only)\n\nMust be worth $25 or more\, can be anything you want (gift baskets\, merch/swag\, wine\, gift certificates\, etc.)\n\nJust add under "Additional Items" at checkout. Someone from the Chamber will reach out to you about details. One door prize donation per member per event.\n\n \nAbout Amanda Curran\n\n\n\n\n\n_____________________\n\nCatering by Jacopetti's Catering
X-ALT-DESC;FMTTYPE=text/html:<span style="font-size:18px\;">Join us for <strong><span style="color:#0099cc\;">EMERGING LEADERS</span></strong>&nbsp\;for <strong>lunch</strong>\, <strong>connecting</strong> with other <strong>young pros</strong> and <strong>professional development</strong>!</span><br />\n<span style="color:#000000\;">Emerging Leaders is a group created specifically for the young professionals in our business community (and those young at heart) that is focused on professional development and building business connections.</span>\n<div style="text-align: center\;"><span style="font-size:22px\;"><span style="color:#0000CD\;"><strong>Wednesday\,&nbsp\;June 10th<br />\nComfort Suites<br />\n11:30am-1pm</strong></span><br />\n$25&nbsp\;Members\, $35 Non-Members</span><br />\n<span style="font-size:20px\;"><em>SPONSORED BY&nbsp\;</em></span><br />\nThis Could Be You!</div>\n<span style="box-sizing: border-box\; font-family: Heebo\, sans-serif\; font-size: 16px\; color: rgb(0\, 0\, 255)\;"><span style="box-sizing: border-box\; font-family: arial\;"><span style="box-sizing: border-box\; font-size: 26px\;"><u style="box-sizing: border-box\;"><span style="box-sizing: border-box\; font-weight: bolder\;">Guest Speaker</span></u></span></span></span><br style="box-sizing: border-box\; color: rgb(85\, 85\, 85)\; font-family: Heebo\, sans-serif\; font-size: 16px\;" />\n<span style="font-size:20px\;"><span style="font-family:arial\;"><span style="color:#000000\;">Amanda Curran\, <em>Director of Retail\, Central Willamette Credit Union</em></span></span></span><br />\n<br />\n<br />\n<span style="font-size:16px\;"><span style="font-family:arial\;"><strong><span style="color: rgb(255\, 0\, 0)\;"><u>Donate a Door Prize!&nbsp\;<em>(Members only)</em></u></span></strong></span></span>\n\n<div style="margin-left: 40px\;"><span style="font-size:16px\;"><span style="font-family:arial\;">Must be worth $25 or more\, can be anything you want (gift baskets\, merch/swag\, wine\, gift certificates\, etc.)<br />\nJust add under &quot\;Additional Items&quot\; at checkout. Someone from the Chamber will reach out to you about details. One door prize donation per member per event.</span></span><br />\n&nbsp\;</div>\n<span style="color:#800080\;"><span style="font-size:16px\;"><strong><span style="font-family: Calibri\, sans-serif\;"><span style="font-size:20px\;"><span style="font-size:24px\;">About Amanda Curran</span></span></span></strong></span></span><br />\n<br />\n<br />\n_____________________<br />\n<strong>Catering by Jacopetti&#39\;s Catering</strong>
LOCATION:Comfort Suites of Albany 100 Opal Ct NE Albany\, OR 97322
UID:e.2569.6319
SEQUENCE:3
DTSTAMP:20260423T083724Z
URL:https://business.albanychamber.com/events/details/emerging-leaders-june-2026-6319
END:VEVENT

END:VCALENDAR
