BEGIN:VCALENDAR
VERSION:2.0
PRODID:-//ChamberMaster//Event Calendar 2.0//EN
METHOD:PUBLISH
X-PUBLISHED-TTL:P3D
REFRESH-INTERVAL:P3D
CALSCALE:GREGORIAN
BEGIN:VEVENT
DTSTART:20200229T230000Z
DTEND:20200301T003000Z
X-MICROSOFT-CDO-ALLDAYEVENT:FALSE
SUMMARY:Family Movie & Popcorn - Sensory Sensitive
DESCRIPTION:Families who need lower volume and more light are encouraged to attend this sensory friendly showing for our participants who experience special needs.
X-ALT-DESC;FMTTYPE=text/html:Families who need lower volume and more light are encouraged to attend this sensory friendly showing for our participants who experience special needs.
LOCATION:Albany Senior Center 489 Water Ave Albany\, OR 97321
UID:e.2569.3344
SEQUENCE:3
DTSTAMP:20260423T063113Z
URL:https://business.albanychamber.com/events/details/family-movie-popcorn-sensory-sensitive-3344
END:VEVENT

END:VCALENDAR
