BEGIN:VCALENDAR
VERSION:2.0
PRODID:-//ChamberMaster//Event Calendar 2.0//EN
METHOD:PUBLISH
X-PUBLISHED-TTL:P3D
REFRESH-INTERVAL:P3D
CALSCALE:GREGORIAN
BEGIN:VEVENT
DTSTART;VALUE=DATE:20251113
DTEND;VALUE=DATE:20251114
TRANSP:TRANSPARENT
X-MICROSOFT-CDO-ALLDAYEVENT:TRUE
SUMMARY:Family Tree November Dinner Event
DESCRIPTION:Please join us to learn about the work being done in your community by Family Tree Relief Nursery! Event is free to attend: RSVP to rimes@familytreern.org
X-ALT-DESC;FMTTYPE=text/html:Please join us to learn about the work being done in your community by Family Tree Relief Nursery! Event is free to attend: RSVP to rimes@familytreern.org
LOCATION:505 Mullins Drive Lebanon\, OR 97355
UID:e.2569.6101
SEQUENCE:3
DTSTAMP:20260419T230924Z
URL:https://business.albanychamber.com/events/details/family-tree-november-dinner-event-6101
END:VEVENT

END:VCALENDAR
