BEGIN:VCALENDAR
VERSION:2.0
PRODID:-//ChamberMaster//Event Calendar 2.0//EN
METHOD:PUBLISH
X-PUBLISHED-TTL:P3D
REFRESH-INTERVAL:P3D
CALSCALE:GREGORIAN
BEGIN:VEVENT
DTSTART:20250403T151500Z
DTEND:20250403T161500Z
X-MICROSOFT-CDO-ALLDAYEVENT:FALSE
SUMMARY:Greeters - 10D Tech 4/3/25
DESCRIPTION:Join us for Greeters hosted by 10D Tech!\n\nLocated at the Linn Co. Expo Center - Conference Room:\n\n3700 Knox Butte Rd E\, Albany\, OR  97322\n\n\n\nGreeters is a morning meet and greet session\, held at a different chamber business every week. You can learn about a local business while enjoying hot coffee\, a snack and making connections with our business community. Join us ~ it's free!
X-ALT-DESC;FMTTYPE=text/html:<span style="font-size:26px\;"><span style="font-family: Arial\, sans-serif\; line-height: 18.2px\;">Join us for Greeters hosted by<strong><span style="font-size: 26px\;"><span style="font-family: Arial\, sans-serif\; line-height: 18.2px\;"><font color="#0099cc">&nbsp\;</font><span style="color:#FF8C00\;">10D Tech!</span></span></span></strong></span></span><br />\n<span style="font-size:20px\;">Located at the <span style="font-family:arial\;">Linn Co. Expo Center - Conference Room:<br />\n<span style="color:#FF0000\;"><u><strong>3700 Knox Butte Rd E\, Albany\, OR&nbsp\;&nbsp\;97322</strong></u></span></span></span><br />\n<br />\n<span style="color: rgb(85\, 85\, 85)\; font-family: Arial\, sans-serif\; font-size: 14px\;">Greeters is a morning meet and greet session\, held at a different chamber business every week. You can learn about a local business while enjoying hot coffee\, a snack and making connections with our business community. Join us ~ it&#39\;s free!</span>
LOCATION:Linn Co. Expo Center - Conference Room 3700 Knox Butte Rd E\, Albany\, OR 97322
UID:e.2569.4579
SEQUENCE:3
DTSTAMP:20260419T133136Z
URL:https://business.albanychamber.com/events/details/greeters-10d-tech-4-3-25-4579
END:VEVENT

END:VCALENDAR
