BEGIN:VCALENDAR
VERSION:2.0
PRODID:-//ChamberMaster//Event Calendar 2.0//EN
METHOD:PUBLISH
X-PUBLISHED-TTL:P3D
REFRESH-INTERVAL:P3D
CALSCALE:GREGORIAN
BEGIN:VEVENT
DTSTART:20250731T151500Z
DTEND:20250731T161500Z
X-MICROSOFT-CDO-ALLDAYEVENT:FALSE
SUMMARY:Greeters - Albany Historic Carousel & Museum 7/31/25
DESCRIPTION:Join us for Greeters Hosted by the Albany Historic Carousel\n\n\n\nLocation: 503 W. 1st Avenue\, Albany\, OR 97321\n\n\n\nGreeters is a morning meet and greet session\, held at a different chamber business every week. You can learn about a local business while enjoying hot coffee\, a snack and making connections with our business community. Join us ~ it's free!
X-ALT-DESC;FMTTYPE=text/html:<span style="font-size:26px\;"><strong><span style="font-family: Arial\, sans-serif\; line-height: 18.2px\;">Join us for Greeters&nbsp\;Hosted by the&nbsp\;</span></strong></span><span style="color:#66ccff\;"><span style="font-size:26px\;"><strong><span style="font-family: Arial\, sans-serif\; line-height: 18.2px\;">Albany Historic Carousel</span></strong></span></span><br />\n<br />\n<span style="color:#000000\;"><span style="font-size:26px\;"><strong><span style="font-family: Arial\, sans-serif\; line-height: 18.2px\;">Location:&nbsp\;</span></strong></span></span><span style="color:#FF0000\;"><u><span style="font-size:22px\;">503 W. 1st Avenue\, Albany\, OR 97321</span></u></span><br />\n<br />\n<span style="color: rgb(85\, 85\, 85)\; font-family: Arial\, sans-serif\; font-size: 14px\; line-height: 18.2px\;">Greeters is a morning meet and greet session\, held at a different chamber business every week. You can learn about a local business while enjoying hot coffee\, a snack and making connections with our business community. Join us ~ it&#39\;s free!</span>
LOCATION:503 W. 1st Avenue Albany\, OR 97321
UID:e.2569.5531
SEQUENCE:3
DTSTAMP:20260419T171307Z
URL:https://business.albanychamber.com/events/details/greeters-albany-historic-carousel-museum-7-31-25-5531
END:VEVENT

END:VCALENDAR
