BEGIN:VCALENDAR
VERSION:2.0
PRODID:-//ChamberMaster//Event Calendar 2.0//EN
METHOD:PUBLISH
X-PUBLISHED-TTL:P3D
REFRESH-INTERVAL:P3D
CALSCALE:GREGORIAN
BEGIN:VEVENT
DTSTART:20250619T151500Z
DTEND:20250619T161500Z
X-MICROSOFT-CDO-ALLDAYEVENT:FALSE
SUMMARY:Greeters - AMERICAN LEGION POST 10 6/19/25
DESCRIPTION:Join us for Greeters hosted by AMERICAN LEGION POST 10!\n\nLocated at: Calapooia Brewing- 140 NE Hill St\, Albany\, OR 97321\n\n\n\n\n\nGreeters is a morning meet and greet session\, held at a different chamber business every week. You can learn about a local business while enjoying hot coffee\, a snack and making connections with our business community. Join us ~ it's free!
X-ALT-DESC;FMTTYPE=text/html:<span style="font-size:26px\;"><span style="font-family:arial\;"><span style="line-height: 18.2px\;">Join us for Greeters hosted by<strong><span style="font-size: 26px\;"><span style="line-height: 18.2px\;"><font color="#0099cc">&nbsp\;</font></span></span></strong></span><strong><span style="color:#FF8C00\;">AMERICAN LEGION POST 10<span style="line-height: 18.2px\;"><span style="line-height: 18.2px\;">!</span></span></span></strong></span></span><br />\n<span style="font-size:20px\;">Located at: </span><u style="box-sizing: border-box\; color: rgb(255\, 0\, 0)\; font-family: Heebo\, sans-serif\; font-size: 16px\;"><span style="box-sizing: border-box\; font-size: 22px\;">Calapooia Brewing- 140 NE Hill St\, Albany\, OR 97321</span></u><br />\n<br />\n<br />\n<span style="color: rgb(85\, 85\, 85)\; font-family: Arial\, sans-serif\; font-size: 14px\;">Greeters is a morning meet and greet session\, held at a different chamber business every week. You can learn about a local business while enjoying hot coffee\, a snack and making connections with our business community. Join us ~ it&#39\;s free!</span>
LOCATION:TBA
UID:e.2569.5524
SEQUENCE:3
DTSTAMP:20260419T155319Z
URL:https://business.albanychamber.com/events/details/greeters-american-legion-post-10-6-19-25-5524
END:VEVENT

END:VCALENDAR
