BEGIN:VCALENDAR
VERSION:2.0
PRODID:-//ChamberMaster//Event Calendar 2.0//EN
METHOD:PUBLISH
X-PUBLISHED-TTL:P3D
REFRESH-INTERVAL:P3D
CALSCALE:GREGORIAN
BEGIN:VEVENT
DTSTART:20250724T151500Z
DTEND:20250724T161500Z
X-MICROSOFT-CDO-ALLDAYEVENT:FALSE
SUMMARY:Greeters - AmeriTitle 7/24/25
DESCRIPTION:Join us for Greeters hosted by AmeriTitle\nLocation: 3055 Salem Ave\, Albany OR 97321\n\n\n\n\n\n\n\n\n\n\n\n\n\nGreeters is a morning meet and greet session\, held at a different chamber business every week. You can learn about a local business while enjoying hot coffee\, a snack and making connections with our business community. Join us ~ it's free!
X-ALT-DESC;FMTTYPE=text/html:<span style="color: rgb(85\, 85\, 85)\; font-family: Arial\, sans-serif\; font-size: 26px\;">Join us for Greeters hosted by</span><span style="font-size:22px\;"><span style="font-family:arial\;">&nbsp\;</span></span><span style="font-size:26px\;"><span style="color:#800080\;"><em style="color: rgb(255\, 49\, 49)\; font-family: &quot\;YAFdJjTk5UU 0&quot\;\, _fb_\, auto\;"><span style="font-family:arial\;"><span class="OYPEnA text-decoration-none text-strikethrough-none" style="font-weight: 700\;">AmeriTitle</span></span></em></span></span>\n<p class="cvGsUA direction-ltr align-start para-style-body" style="color: rgb(255\, 49\, 49)\; font-family: &quot\;YAFdJjTk5UU 0&quot\;\, _fb_\, auto\; --cyV3ZQ: 13.3333px\; --gJPlXQ: 1.4\; line-height: 18px\;"><span style="color:#000000\;"><span style="font-size:22px\;"><span style="font-family:arial\;"><span class="OYPEnA text-decoration-none text-strikethrough-none">Location: </span></span></span></span><u><span style="font-size:22px\;"><span style="font-family:arial\;"><span class="OYPEnA text-decoration-none text-strikethrough-none">3055 Salem Ave\, Albany OR 97321</span></span></span></u><br />\n<br />\n<br />\n<br />\n<br />\n<br />\n<br />\n<span style="color: rgb(85\, 85\, 85)\; font-family: Arial\, sans-serif\; font-size: 14px\;">Greeters is a morning meet and greet session\, held at a different chamber business every week. You can learn about a local business while enjoying hot coffee\, a snack and making connections with our business community. Join us ~ it&#39\;s free!</span></p>\n
LOCATION:3055 Salem Ave. (across from Waverly Lake)
UID:e.2569.5530
SEQUENCE:3
DTSTAMP:20260419T155711Z
URL:https://business.albanychamber.com/events/details/greeters-amerititle-7-24-25-5530
END:VEVENT

END:VCALENDAR
