BEGIN:VCALENDAR
VERSION:2.0
PRODID:-//ChamberMaster//Event Calendar 2.0//EN
METHOD:PUBLISH
X-PUBLISHED-TTL:P3D
REFRESH-INTERVAL:P3D
CALSCALE:GREGORIAN
BEGIN:VEVENT
DTSTART:20260514T151500Z
DTEND:20260514T161500Z
X-MICROSOFT-CDO-ALLDAYEVENT:FALSE
SUMMARY:Greeters - APEX Property Clearing 5/17/26
DESCRIPTION:Join us for Greeters with APEX Property Clearing!\n\n\n\nLocation at: YMCA- 3201 Pacific Blvd. SW Albany 97321\n\nGreeters is a morning meet and greet session\, held at a different chamber business every week.
X-ALT-DESC;FMTTYPE=text/html:<span style="color: rgb(85\, 85\, 85)\; font-family: Arial\, sans-serif\; font-size: 14px\; line-height: 18.2px\;">Join us for Greeters with</span><span style="color:#0000FF\;"><span style="font-family: Arial\, sans-serif\; font-size: 14px\; line-height: 18.2px\;"><span style="font-size:24px\;"><strong><span style="font-family:arial\;">&nbsp\;</span></strong></span></span></span><span style="color:#008080\;"><span style="font-size:24px\;"><strong><span style="font-family:arial\;">APEX Property Clearing!</span></strong></span></span><br />\n<br />\n<span style="font-size:18px\;">Location at:<span style="color:#40E0D0\;"><span style="font-size:18px\;"> </span></span></span><u><strong><span style="color:#FF0000\;"><span style="font-size:20px\;"><span style="font-family:arial\;"><span class="a_GcMg font-feature-liga-off font-feature-clig-off font-feature-calt-off text-decoration-none text-strikethrough-none" style="caret-color: rgb(0\, 0\, 0)\; --Ys-XuQ: none\; font-kerning: none\;">YMCA- 3201 Pacific Blvd. SW Albany 97321</span></span></span></span></strong></u><br />\n<span style="color: rgb(85\, 85\, 85)\; font-family: Arial\, sans-serif\; font-size: 14px\; line-height: 18.2px\;">Greeters is a morning meet and greet session\, held at a different chamber business every week.</span>
LOCATION:
UID:e.2569.6292
SEQUENCE:3
DTSTAMP:20260425T235118Z
URL:https://business.albanychamber.com/events/details/greeters-apex-property-clearing-5-17-26-6292
END:VEVENT

END:VCALENDAR
