BEGIN:VCALENDAR
VERSION:2.0
PRODID:-//ChamberMaster//Event Calendar 2.0//EN
METHOD:PUBLISH
X-PUBLISHED-TTL:P3D
REFRESH-INTERVAL:P3D
CALSCALE:GREGORIAN
BEGIN:VEVENT
DTSTART:20260416T151500Z
DTEND:20260416T161500Z
X-MICROSOFT-CDO-ALLDAYEVENT:FALSE
SUMMARY:Greeters - BBSI 4/16/26
DESCRIPTION:Join us for Greeters with BBSI!\n\n\n\nLocation: TBA\n\n\n\nGreeters is a morning meet and greet session\, held at a different chamber business every week. You can learn about a local business while enjoying hot coffee\, a snack and making connections with our business community. Join us ~ it's free!
X-ALT-DESC;FMTTYPE=text/html:<span style="font-size:20px\;"><strong><font face="Arial\, sans-serif">&nbsp\;Join us for Greeters with<span style="color:#0000FF\;"> BBSI!</span></font></strong></span><br />\n<br />\n<span style="font-size:18px\;"><font face="arial">Location: </font><font color="#000000" face="Arial"><span style="white-space-collapse: preserve\;">TBA</span></font></span><br />\n<br />\n<span style="color: rgb(85\, 85\, 85)\; font-family: Arial\, sans-serif\; font-size: 14px\;">Greeters is a morning meet and greet session\, held at a different chamber business every week. You can learn about a local business while enjoying hot coffee\, a snack and making connections with our business community. Join us ~ it&#39\;s free!</span>
LOCATION:
UID:e.2569.6288
SEQUENCE:3
DTSTAMP:20260421T111555Z
URL:https://business.albanychamber.com/events/details/greeters-bbsi-4-16-26-6288
END:VEVENT

END:VCALENDAR
