BEGIN:VCALENDAR
VERSION:2.0
PRODID:-//ChamberMaster//Event Calendar 2.0//EN
METHOD:PUBLISH
X-PUBLISHED-TTL:P3D
REFRESH-INTERVAL:P3D
CALSCALE:GREGORIAN
BEGIN:VEVENT
DTSTART:20250515T151500Z
DTEND:20250515T161500Z
X-MICROSOFT-CDO-ALLDAYEVENT:FALSE
SUMMARY:Greeters - Bonaventure of Albany 5/15/25
DESCRIPTION:Join us for Greeters hosted by Bonaventure of Albany!\n\nLocated at 420 Geri Street Albany\, OR 97321\n\n\n\nGreeters is a morning meet and greet session\, held at a different chamber business every week. You can learn about a local business while enjoying hot coffee\, a snack and making connections with our business community. Join us ~ it's free!
X-ALT-DESC;FMTTYPE=text/html:<span style="font-size:26px\;"><span style="font-family: Arial\, sans-serif\; line-height: 18.2px\;">Join us for Greeters hosted by<strong><span style="font-size: 26px\;"><span style="font-family: Arial\, sans-serif\; line-height: 18.2px\;"><font color="#0099cc">&nbsp\;</font><font color="#008000">Bonaventure of Albany!</font></span></span></strong></span></span><br />\n<span style="font-size:20px\;"><span style="font-family:arial\;">Located at&nbsp\;</span><span data-sheets-userformat="{&quot\;2&quot\;:1\,&quot\;3&quot\;:{&quot\;1&quot\;:0}}" data-sheets-value="{&quot\;1&quot\;:2\,&quot\;2&quot\;:&quot\;420 Geri Street Albany\, OR 97321&quot\;}" style="color: rgb(0\, 0\, 0)\; font-family: Arial\;">420 Geri Street Albany\, OR 97321</span></span><br />\n<br />\n<span style="color: rgb(85\, 85\, 85)\; font-family: Arial\, sans-serif\; font-size: 14px\;">Greeters is a morning meet and greet session\, held at a different chamber business every week. You can learn about a local business while enjoying hot coffee\, a snack and making connections with our business community. Join us ~ it&#39\;s free!</span>
LOCATION:
UID:e.2569.4614
SEQUENCE:3
DTSTAMP:20260419T130259Z
URL:https://business.albanychamber.com/events/details/greeters-bonaventure-of-albany-5-15-25-4614
END:VEVENT

END:VCALENDAR
