BEGIN:VCALENDAR
VERSION:2.0
PRODID:-//ChamberMaster//Event Calendar 2.0//EN
METHOD:PUBLISH
X-PUBLISHED-TTL:P3D
REFRESH-INTERVAL:P3D
CALSCALE:GREGORIAN
BEGIN:VEVENT
DTSTART:20250501T151500Z
DTEND:20250501T161500Z
X-MICROSOFT-CDO-ALLDAYEVENT:FALSE
SUMMARY:Greeters - BosonHub Digital Development 5/1/25
DESCRIPTION:Join us for Greeters with BosonHub Digital Development\n\nLocated at Albany Municipal Airport: 525 Aviation Way SE\, Albany\, OR 97322\n\n\n\nGreeters is a morning meet and greet session\, held at a different chamber business every week. You can learn about a local business while enjoying hot coffee\, a snack and making connections with our business community. Join us ~ it's free!
X-ALT-DESC;FMTTYPE=text/html:<strong><span style="font-size:20px\;"><font face="Arial\, sans-serif">Join us for Greeters with </font><span style="color: rgb(0\, 0\, 0)\; font-family: Arial\; white-space-collapse: preserve\;">BosonHub Digital Development</span></span></strong><br />\n<span style="font-size:18px\;"><font face="Arial\, sans-serif"><span style="font-family:arial\;">Located at&nbsp\;</span></font><strong>Albany Municipal Airport:</strong><u><strong> <span style="color:#FF0000\;">525 Aviation Way SE\, Albany\, OR 97322</span></strong></u></span><br />\n<br />\n<span style="color: rgb(85\, 85\, 85)\; font-family: Arial\, sans-serif\; font-size: 14px\;">Greeters is a morning meet and greet session\, held at a different chamber business every week. You can learn about a local business while enjoying hot coffee\, a snack and making connections with our business community. Join us ~ it&#39\;s free!</span>
LOCATION:
UID:e.2569.4613
SEQUENCE:3
DTSTAMP:20260419T130101Z
URL:https://business.albanychamber.com/events/details/greeters-bosonhub-digital-development-5-1-25-4613
END:VEVENT

END:VCALENDAR
