BEGIN:VCALENDAR
VERSION:2.0
PRODID:-//ChamberMaster//Event Calendar 2.0//EN
METHOD:PUBLISH
X-PUBLISHED-TTL:P3D
REFRESH-INTERVAL:P3D
CALSCALE:GREGORIAN
BEGIN:VEVENT
DTSTART:20250626T151500Z
DTEND:20250626T161500Z
X-MICROSOFT-CDO-ALLDAYEVENT:FALSE
SUMMARY:Greeters - Brookdale Senior Living (Heritage Plaza) 6/26/25
DESCRIPTION:Join us for Greeters with Brookdale Senior Living!\n\n\n\nLocation: The Heritage Plaza: 1560 Davidson St. SE Albany\, OR 97322\n\n\n\nGreeters is a morning meet and greet session\, held at a different chamber business every week. You can learn about a local business while enjoying hot coffee\, a snack and making connections with our business community. Join us ~ it's free!
X-ALT-DESC;FMTTYPE=text/html:<span style="font-size:20px\;"><strong><font face="Arial\, sans-serif">&nbsp\;Join us for Greeters with<span style="color:#0000FF\;"> Brookdale Senior Living!</span></font></strong></span><br />\n<br />\n<span style="font-size:18px\;"><font face="arial">Location: </font></span><span style="font-size:22px\;"><font face="arial"><span style="font-family:arial\;"><span style="color:#000000\;"><strong>The&nbsp\;</strong></span></span></font><span style="font-family:arial\;"><span style="color:#000000\;"><strong>Heritage Plaza:&nbsp\;</strong></span></span></span><span style="font-size:22px\;"><span style="color:#FF0000\;"><strong><u><span style="font-family:arial\;">1560 Davidson St. SE Albany\, OR 97322</span></u></strong></span></span><br />\n<br />\n<span style="color: rgb(85\, 85\, 85)\; font-family: Arial\, sans-serif\; font-size: 14px\;">Greeters is a morning meet and greet session\, held at a different chamber business every week. You can learn about a local business while enjoying hot coffee\, a snack and making connections with our business community. Join us ~ it&#39\;s free!</span>
LOCATION:
UID:e.2569.4626
SEQUENCE:3
DTSTAMP:20260419T155931Z
URL:https://business.albanychamber.com/events/details/greeters-brookdale-senior-living-heritage-plaza-6-26-25-4626
END:VEVENT

END:VCALENDAR
