BEGIN:VCALENDAR
VERSION:2.0
PRODID:-//ChamberMaster//Event Calendar 2.0//EN
METHOD:PUBLISH
X-PUBLISHED-TTL:P3D
REFRESH-INTERVAL:P3D
CALSCALE:GREGORIAN
BEGIN:VEVENT
DTSTART:20250717T151500Z
DTEND:20250717T161500Z
X-MICROSOFT-CDO-ALLDAYEVENT:FALSE
SUMMARY:Greeters - City of Albany: Parks and Rec 7/17/25
DESCRIPTION:Join us for Greeters hosted by City of Albany: Parks and Rec.\n\nLocated at Monteith Park: 489 NW Water Ave.\, Albany OR 97321\n\n\n\nGreeters is a morning meet and greet session\, held at a different chamber business every week. You can learn about a local business while enjoying hot coffee\, a snack and making connections with our business community. Join us ~ it's free!
X-ALT-DESC;FMTTYPE=text/html:<span style="font-size:26px\;"><span style="font-family: Arial\, sans-serif\; line-height: 18.2px\;">Join us for Greeters hosted by<strong><span style="font-size: 26px\;"><span style="font-family: Arial\, sans-serif\; line-height: 18.2px\;"><font color="#0099cc">&nbsp\;</font><font color="#008000">City of Albany: Parks and Rec.</font></span></span></strong></span></span><br />\n<span style="font-size:20px\;"><span style="font-family:arial\;">Located at&nbsp\;<span style="color:#FF0000\;"><span style="font-size:24px\;"><strong>Monteith Park: 489 NW Water Ave.\, Albany OR 97321</strong></span></span></span></span><br />\n<br />\n<span style="color: rgb(85\, 85\, 85)\; font-family: Arial\, sans-serif\; font-size: 14px\;">Greeters is a morning meet and greet session\, held at a different chamber business every week. You can learn about a local business while enjoying hot coffee\, a snack and making connections with our business community. Join us ~ it&#39\;s free!</span>
LOCATION:
UID:e.2569.5529
SEQUENCE:3
DTSTAMP:20260419T172012Z
URL:https://business.albanychamber.com/events/details/greeters-city-of-albany-parks-and-rec-7-17-25-5529
END:VEVENT

END:VCALENDAR
