BEGIN:VCALENDAR
VERSION:2.0
PRODID:-//ChamberMaster//Event Calendar 2.0//EN
METHOD:PUBLISH
X-PUBLISHED-TTL:P3D
REFRESH-INTERVAL:P3D
CALSCALE:GREGORIAN
BEGIN:VEVENT
DTSTART:20250529T151500Z
DTEND:20250529T161500Z
X-MICROSOFT-CDO-ALLDAYEVENT:FALSE
SUMMARY:Greeters - Corvallis Knights 5/29/25
DESCRIPTION:Join us for Greeters hosted by Corvallis Knights!\n\nLocated at Fitzpatrick Painting and Construction - 37949 Century Dr. NE Albany OR 97322\n\n\n\n\n\nGreeters is a morning meet and greet session\, held at a different chamber business every week. You can learn about a local business while enjoying hot coffee\, a snack and making connections with our business community. Join us ~ it's free!
X-ALT-DESC;FMTTYPE=text/html:<span style="font-size:26px\;"><span style="font-family: Arial\, sans-serif\; line-height: 18.2px\;">Join us for Greeters hosted by<strong><span style="font-size: 26px\;"><span style="font-family: Arial\, sans-serif\; line-height: 18.2px\;"><font color="#0099cc">&nbsp\;</font><span style="color:#0000FF\;">Corvallis Knights!</span></span></span></strong></span></span><br />\n<span style="font-size:20px\;">Located at </span><span style="font-size:18px\;"><strong>Fitzpatrick Painting and Construction - <u><span style="color:#FF0000\;">37949 Century Dr. NE Albany OR 97322</span></u></strong></span><br />\n<br />\n<br />\n<span style="color: rgb(85\, 85\, 85)\; font-family: Arial\, sans-serif\; font-size: 14px\;">Greeters is a morning meet and greet session\, held at a different chamber business every week. You can learn about a local business while enjoying hot coffee\, a snack and making connections with our business community. Join us ~ it&#39\;s free!</span>
LOCATION:
UID:e.2569.4615
SEQUENCE:3
DTSTAMP:20260419T130204Z
URL:https://business.albanychamber.com/events/details/greeters-corvallis-knights-5-29-25-4615
END:VEVENT

END:VCALENDAR
