BEGIN:VCALENDAR
VERSION:2.0
PRODID:-//ChamberMaster//Event Calendar 2.0//EN
METHOD:PUBLISH
X-PUBLISHED-TTL:P3D
REFRESH-INTERVAL:P3D
CALSCALE:GREGORIAN
BEGIN:VEVENT
DTSTART:20250710T151500Z
DTEND:20250710T161500Z
X-MICROSOFT-CDO-ALLDAYEVENT:FALSE
SUMMARY:Greeters - Energy Trust of Oregon 7/10/25
DESCRIPTION:Join us for Greeters hosted by Energy Trust of Oregon\n\n\n\nLocated at Fitzpatrick Painting and Construction: 37949 Century Dr. NE Albany OR 97322\n\n\n\nGreeters is a morning meet and greet session\, held at a different chamber business every week. You can learn about a local business while enjoying hot coffee\, a snack and making connections with our business community. Join us ~ it's free!
X-ALT-DESC;FMTTYPE=text/html:<span style="font-size:26px\;"><span style="font-family: Arial\, sans-serif\; line-height: 18.2px\;">Join us for Greeters hosted by<strong><span style="font-size: 26px\;"><span style="font-family: Arial\, sans-serif\; line-height: 18.2px\;"><font color="#0099cc">&nbsp\;</font><font color="#008000">Energy Trust of Oregon</font></span></span></strong></span></span><br />\n<br />\n<span style="font-size:20px\;"><span style="font-family:arial\;">Located at&nbsp\;<span style="color:#000000\;"><span style="font-size:24px\;"><strong>Fitzpatrick Painting and Construction:</strong></span></span><span style="color:#FF0000\;"><span style="font-size:24px\;"><strong>&nbsp\;<u>37949 Century Dr. NE Albany OR 97322</u></strong></span></span></span></span><br />\n<br />\n<span style="color: rgb(85\, 85\, 85)\; font-family: Arial\, sans-serif\; font-size: 14px\;">Greeters is a morning meet and greet session\, held at a different chamber business every week. You can learn about a local business while enjoying hot coffee\, a snack and making connections with our business community. Join us ~ it&#39\;s free!</span>
LOCATION:
UID:e.2569.5528
SEQUENCE:3
DTSTAMP:20260419T171910Z
URL:https://business.albanychamber.com/events/details/greeters-energy-trust-of-oregon-7-10-25-5528
END:VEVENT

END:VCALENDAR
