BEGIN:VCALENDAR
VERSION:2.0
PRODID:-//ChamberMaster//Event Calendar 2.0//EN
METHOD:PUBLISH
X-PUBLISHED-TTL:P3D
REFRESH-INTERVAL:P3D
CALSCALE:GREGORIAN
BEGIN:VEVENT
DTSTART:20250807T151500Z
DTEND:20250807T161500Z
X-MICROSOFT-CDO-ALLDAYEVENT:FALSE
SUMMARY:Greeters - Phoenix Inn Suites Albany 8/7/25
DESCRIPTION:Join us for Greeters Hosted by the Phoenix Inn Suites Albany!\n\n\n\nLocation: 3410 Spicer Dr SE Albany\, OR 97322.\n\n\n\nGreeters is a morning meet and greet session\, held at a different chamber business every week. You can learn about a local business while enjoying hot coffee\, a snack and making connections with our business community. Join us ~ it's free!
X-ALT-DESC;FMTTYPE=text/html:<span style="font-size:26px\;"><strong><span style="font-family: Arial\, sans-serif\; line-height: 18.2px\;">Join us for Greeters&nbsp\;Hosted by the&nbsp\;</span></strong></span><span style="color:#800080\;"><strong><span style="font-family: &quot\;Google Sans&quot\;\, Roboto\, Arial\, sans-serif\; font-size: 28px\;">Phoenix Inn Suites Albany!</span></strong></span><br />\n<br />\n<span style="color:#000000\;"><span style="font-size:26px\;"><strong><span style="font-family: Arial\, sans-serif\; line-height: 18.2px\;">Location:&nbsp\;</span></strong></span></span><span style="font-size:22px\;"><span style="font-family:arial\;"><span style="color:#FF0000\;"><strong><u>3410 Spicer Dr SE Albany\, OR 97322.</u></strong></span></span></span><br />\n<br />\n<span style="color: rgb(85\, 85\, 85)\; font-family: Arial\, sans-serif\; font-size: 14px\; line-height: 18.2px\;">Greeters is a morning meet and greet session\, held at a different chamber business every week. You can learn about a local business while enjoying hot coffee\, a snack and making connections with our business community. Join us ~ it&#39\;s free!</span>
LOCATION:503 W. 1st Avenue Albany\, OR 97321
UID:e.2569.5544
SEQUENCE:3
DTSTAMP:20260419T170627Z
URL:https://business.albanychamber.com/events/details/greeters-phoenix-inn-suites-albany-8-7-25-5544
END:VEVENT

END:VCALENDAR
