BEGIN:VCALENDAR
VERSION:2.0
PRODID:-//ChamberMaster//Event Calendar 2.0//EN
METHOD:PUBLISH
X-PUBLISHED-TTL:P3D
REFRESH-INTERVAL:P3D
CALSCALE:GREGORIAN
BEGIN:VEVENT
DTSTART:20250612T151500Z
DTEND:20250612T161500Z
X-MICROSOFT-CDO-ALLDAYEVENT:FALSE
SUMMARY:Greeters - Renaissance Roofing 6/12/25
DESCRIPTION:Join us for Greeters with Renaissance Roofing!\n\n\n\nLocation: Fitzpatrick Painting - 37949 Century Dr NE Albany 97322\n\n\n\nGreeters is a morning meet and greet session\, held at a different chamber business every week. You can learn about a local business while enjoying hot coffee\, a snack and making connections with our business community. Join us ~ it's free!
X-ALT-DESC;FMTTYPE=text/html:<span style="font-size:20px\;"><strong><font face="Arial\, sans-serif">&nbsp\;Join us for Greeters with<span style="color:#0000FF\;"> </span></font></strong></span><span style="color:#FF8C00\;"><strong><span style="font-size:22px\;"><span style="font-family:arial\;">Renaissance Roofing!</span></span></strong></span><br />\n<br />\n<span style="font-size:18px\;"><font face="arial">Location: </font><span style="color: rgb(0\, 0\, 0)\; font-family: Arial\; white-space-collapse: preserve\;">Fitzpatrick Painting - </span><span style="color:#FF0000\;"><span style="font-family: Arial\; white-space-collapse: preserve\;"><u>37949 Century Dr NE Albany 97322</u></span></span></span><br />\n<br />\n<span style="color: rgb(85\, 85\, 85)\; font-family: Arial\, sans-serif\; font-size: 14px\;">Greeters is a morning meet and greet session\, held at a different chamber business every week. You can learn about a local business while enjoying hot coffee\, a snack and making connections with our business community. Join us ~ it&#39\;s free!</span>
LOCATION:
UID:e.2569.4625
SEQUENCE:3
DTSTAMP:20260419T143322Z
URL:https://business.albanychamber.com/events/details/greeters-renaissance-roofing-6-12-25-4625
END:VEVENT

END:VCALENDAR
