BEGIN:VCALENDAR
VERSION:2.0
PRODID:-//ChamberMaster//Event Calendar 2.0//EN
METHOD:PUBLISH
X-PUBLISHED-TTL:P3D
REFRESH-INTERVAL:P3D
CALSCALE:GREGORIAN
BEGIN:VEVENT
DTSTART:20250814T151500Z
DTEND:20250814T161500Z
X-MICROSOFT-CDO-ALLDAYEVENT:FALSE
SUMMARY:Greeters & Ribbon Cutting- OnePeak Medical 8/14/25
DESCRIPTION:Join us for Greeters and Ribbon Cutting hosted by OnePeak Medical!\n\n\n\nLocated at: 1803 14th Avenue SE Albany\, OR 97322\n \n\n\nGreeters is a morning meet and greet session\, held at a different chamber business every week.
X-ALT-DESC;FMTTYPE=text/html:<span style="color:#000000\;"><span style="font-size:24px\;"><span style="font-family: Arial\, sans-serif\; line-height: 18.2px\;"><strong>Join us for Greeters and Ribbon Cutting hosted by</strong></span></span></span><span style="color:#FF8C00\;"><span style="font-size:24px\;"><span style="font-family: Arial\, sans-serif\; line-height: 18.2px\;"><strong> </strong></span></span></span><span style="color:#0000FF\;"><span style="font-size:24px\;"><span style="font-family: Arial\, sans-serif\; line-height: 18.2px\;"><strong>OnePeak Medical!</strong></span></span></span><br />\n<br />\n<span style="font-size:24px\;"><span style="font-family: Arial\, sans-serif\; line-height: 18.2px\;"><strong><span style="color:#000000\;">Located at: </span></strong></span></span><strong><span style="color:#FF0000\;"><u><span style="font-size:22px\;"><span style="font-family:arial\;">1803 14th Avenue SE Albany\, OR 97322</span></span></u></span></strong>\n<div>&nbsp\;</div>\n<br />\n<span style="color: rgb(85\, 85\, 85)\; font-family: Arial\, sans-serif\; font-size: 14px\; line-height: 18.2px\;">Greeters is a morning meet and greet session\, held at a different chamber business every week.</span>
LOCATION:
UID:e.2569.5532
SEQUENCE:3
DTSTAMP:20260419T170717Z
URL:https://business.albanychamber.com/events/details/greeters-ribbon-cutting-onepeak-medical-8-14-25-5532
END:VEVENT

END:VCALENDAR
