BEGIN:VCALENDAR
VERSION:2.0
PRODID:-//ChamberMaster//Event Calendar 2.0//EN
METHOD:PUBLISH
X-PUBLISHED-TTL:P3D
REFRESH-INTERVAL:P3D
CALSCALE:GREGORIAN
BEGIN:VEVENT
DTSTART:20240919T151500Z
DTEND:20240919T161500Z
X-MICROSOFT-CDO-ALLDAYEVENT:FALSE
SUMMARY:Greeters - T-Mobile 9/19/24
DESCRIPTION:Join us for Greeters Hosted by the T-Mobile\n\n\n\nLocation: 810 Burkhart St SE B Albany\, OR 97322\n\n\n\nGreeters is a morning meet and greet session\, held at a different chamber business every week. You can learn about a local business while enjoying hot coffee\, a snack and making connections with our business community. Join us ~ it's free!
X-ALT-DESC;FMTTYPE=text/html:<span style="font-size:26px\;"><strong><span style="font-family: Arial\, sans-serif\; line-height: 18.2px\;">Join us for Greeters&nbsp\;Hosted by the&nbsp\;</span></strong></span><span style="color:#66ccff\;"><span style="font-size:26px\;"><strong><span style="font-family: Arial\, sans-serif\; line-height: 18.2px\;">T-Mobile</span></strong></span></span><br />\n<br />\n<span style="font-size:26px\;"><span style="font-family: Arial\, sans-serif\; line-height: 18.2px\;">Location:</span></span><span style="color:#66ccff\;"><span style="font-size:26px\;"><strong><span style="font-family: Arial\, sans-serif\; line-height: 18.2px\;">&nbsp\;</span></strong></span></span><strong><span style="color:#FF0000\;"><u><span style="font-size:20px\;"><span style="font-family: Arial\; white-space-collapse: preserve\;">810 Burkhart St SE B Albany\, OR 97322</span></span></u></span></strong><br />\n<br />\n<span style="color: rgb(85\, 85\, 85)\; font-family: Arial\, sans-serif\; font-size: 14px\; line-height: 18.2px\;">Greeters is a morning meet and greet session\, held at a different chamber business every week. You can learn about a local business while enjoying hot coffee\, a snack and making connections with our business community. Join us ~ it&#39\;s free!</span>
LOCATION:810 Burkhart St SE B Albany\, OR 97322
UID:e.2569.4488
SEQUENCE:3
DTSTAMP:20260423T023919Z
URL:https://business.albanychamber.com/events/details/greeters-t-mobile-9-19-24-4488
END:VEVENT

END:VCALENDAR
