BEGIN:VCALENDAR
VERSION:2.0
PRODID:-//ChamberMaster//Event Calendar 2.0//EN
METHOD:PUBLISH
X-PUBLISHED-TTL:P3D
REFRESH-INTERVAL:P3D
CALSCALE:GREGORIAN
BEGIN:VEVENT
DTSTART:20260507T151500Z
DTEND:20260507T161500Z
X-MICROSOFT-CDO-ALLDAYEVENT:FALSE
SUMMARY:Greeters - The Joyful Basket 5/7/26
DESCRIPTION:Join us for Greeters hosted by The Joyful Basket\n\n\n\nLocated at: Fitzpatrick Painting - 37949 Century Dr NE Albany 97322\n\n\n\nGreeters is a morning meet and greet session\, held at a different chamber business every week. You can learn about a local business while enjoying hot coffee\, a snack and making connections with our business community. Join us ~ it's free!
X-ALT-DESC;FMTTYPE=text/html:<span style="font-size:26px\;"><span style="font-family: Arial\, sans-serif\; line-height: 18.2px\;">Join us for Greeters hosted by<strong><span style="font-size: 26px\;"><span style="font-family: Arial\, sans-serif\; line-height: 18.2px\;"><font color="#0099cc">&nbsp\;</font><font color="#008000">The Joyful Basket</font></span></span></strong></span></span><br />\n<br />\n<span style="font-size:20px\;"><span style="font-family:arial\;">Located at:&nbsp\;</span></span><span style="box-sizing: border-box\; outline: 0px\; white-space-collapse: preserve\; color: rgb(0\, 0\, 0)\; font-family: Arial\; font-size: 18px\;">Fitzpatrick Painting - </span><span style="box-sizing: border-box\; font-family: Heebo\, sans-serif\; font-size: 16px\; color: rgb(255\, 0\, 0)\;"><span style="box-sizing: border-box\; font-family: Arial\; font-size: 18px\; white-space-collapse: preserve\;"><u style="box-sizing: border-box\;">37949 Century Dr NE Albany 97322</u></span></span><br />\n<br />\n<span style="color: rgb(85\, 85\, 85)\; font-family: Arial\, sans-serif\; font-size: 14px\;">Greeters is a morning meet and greet session\, held at a different chamber business every week. You can learn about a local business while enjoying hot coffee\, a snack and making connections with our business community. Join us ~ it&#39\;s free!</span>
LOCATION:
UID:e.2569.6291
SEQUENCE:3
DTSTAMP:20260425T235119Z
URL:https://business.albanychamber.com/events/details/greeters-the-joyful-basket-5-7-26-6291
END:VEVENT

END:VCALENDAR
