BEGIN:VCALENDAR
VERSION:2.0
PRODID:-//ChamberMaster//Event Calendar 2.0//EN
METHOD:PUBLISH
X-PUBLISHED-TTL:P3D
REFRESH-INTERVAL:P3D
CALSCALE:GREGORIAN
BEGIN:VEVENT
DTSTART:20260423T151500Z
DTEND:20260423T161500Z
X-MICROSOFT-CDO-ALLDAYEVENT:FALSE
SUMMARY:Greeters - Wild Soul 4/23/26
DESCRIPTION:Join us for Greeters with Wild Soul!\n\n\n\nLocation: YMCA- 3201 Pacific Blvd. SW Albany 97321\n\n\n\nGreeters is a morning meet and greet session\, held at a different chamber business every week. You can learn about a local business while enjoying hot coffee\, a snack and making connections with our business community. Join us ~ it's free!
X-ALT-DESC;FMTTYPE=text/html:<span style="font-size:20px\;"><strong><font face="Arial\, sans-serif">&nbsp\;Join us for Greeters with<span style="color:#0000FF\;">&nbsp\;Wild Soul!</span></font></strong></span><br />\n<br />\n<span style="font-size:18px\;"><font face="arial">Location: </font></span><u style="box-sizing: border-box\; color: rgb(85\, 85\, 85)\; font-family: Heebo\, sans-serif\; font-size: 16px\;"><span style="box-sizing: border-box\; font-weight: bolder\;"><span style="box-sizing: border-box\; color: rgb(255\, 0\, 0)\;"><span style="box-sizing: border-box\; font-size: 20px\;"><span style="box-sizing: border-box\; font-family: arial\;"><span class="a_GcMg font-feature-liga-off font-feature-clig-off font-feature-calt-off text-decoration-none text-strikethrough-none" style="box-sizing: border-box\; caret-color: rgb(0\, 0\, 0)\; --Ys-XuQ: none\; font-kerning: none\;">YMCA- 3201 Pacific Blvd. SW Albany 97321</span></span></span></span></span></u><br />\n<br />\n<span style="color: rgb(85\, 85\, 85)\; font-family: Arial\, sans-serif\; font-size: 14px\;">Greeters is a morning meet and greet session\, held at a different chamber business every week. You can learn about a local business while enjoying hot coffee\, a snack and making connections with our business community. Join us ~ it&#39\;s free!</span>
LOCATION:
UID:e.2569.6289
SEQUENCE:3
DTSTAMP:20260421T111654Z
URL:https://business.albanychamber.com/events/details/greeters-wild-soul-4-23-26-6289
END:VEVENT

END:VCALENDAR
