BEGIN:VCALENDAR
VERSION:2.0
PRODID:-//ChamberMaster//Event Calendar 2.0//EN
METHOD:PUBLISH
X-PUBLISHED-TTL:P3D
REFRESH-INTERVAL:P3D
CALSCALE:GREGORIAN
BEGIN:VEVENT
DTSTART:20250708T230000Z
DTEND:20250709T030000Z
X-MICROSOFT-CDO-ALLDAYEVENT:FALSE
SUMMARY:Help Repair Homes with Every Slice
DESCRIPTION:Please join us for a Dinner and Learn with The Albany Area Habitat for Humanity\n\n\n\nCome learn about all the exciting ways you can get involved with the Albany Area Habitat for Humanity - from volunteering and donating to helping build homes and hope in our community.\n\n\n\nWhether you stay for 10 minutes or the whole evening\, we'd love to connect with you!\n\nCome hungry and curious!\n\n\n\nPizza is available for purchase\; the Albany Area Habitat for Humanity will receive 20% of the value of the food purchased\n\n\n\nGenerously sponsored by Party Perfection Oregon
X-ALT-DESC;FMTTYPE=text/html:Please join us for a Dinner and Learn with The Albany Area Habitat for Humanity<br />\n<br />\nCome learn about all the exciting ways you can get involved with the Albany Area Habitat for Humanity - from volunteering and donating to helping build homes and hope in our community.<br />\n<br />\nWhether you stay for 10 minutes or the whole evening\, we&rsquo\;d love to connect with you!<br />\nCome hungry and curious!<br />\n<br />\nPizza is available for purchase\; the Albany Area Habitat for Humanity will receive 20% of the value of the food purchased<br />\n<br />\nGenerously sponsored by Party Perfection Oregon
LOCATION:Abbys Legendary Pizza 3033 Santiam Hwy\, Albany OR
UID:e.2569.5527
SEQUENCE:3
DTSTAMP:20260419T155515Z
URL:https://business.albanychamber.com/events/details/help-repair-homes-with-every-slice-5527
END:VEVENT

END:VCALENDAR
