BEGIN:VCALENDAR
VERSION:2.0
PRODID:-//ChamberMaster//Event Calendar 2.0//EN
METHOD:PUBLISH
X-PUBLISHED-TTL:P3D
REFRESH-INTERVAL:P3D
CALSCALE:GREGORIAN
BEGIN:VEVENT
DTSTART:20251101T160000Z
DTEND:20251101T220000Z
X-MICROSOFT-CDO-ALLDAYEVENT:FALSE
SUMMARY:Holiday Market at Mennonite Village
DESCRIPTION:Join us at the Lakeside Center on November 1 from 9am to 3pm to browse 30 local vendors! 3 Potato More will be on site as well. Plenty of parking available.
X-ALT-DESC;FMTTYPE=text/html:Join us at the Lakeside Center on November 1 from 9am to 3pm to browse 30 local vendors! 3 Potato More will be on site as well. Plenty of parking available.
LOCATION:Lakeside Center - 2180 54th Ave SE\, Albany\, OR 97322
UID:e.2569.6070
SEQUENCE:3
DTSTAMP:20260419T231106Z
URL:https://business.albanychamber.com/events/details/holiday-market-at-mennonite-village-6070
END:VEVENT

END:VCALENDAR
