BEGIN:VCALENDAR
VERSION:2.0
PRODID:-//ChamberMaster//Event Calendar 2.0//EN
METHOD:PUBLISH
X-PUBLISHED-TTL:P3D
REFRESH-INTERVAL:P3D
CALSCALE:GREGORIAN
BEGIN:VEVENT
DTSTART:20251205T193000Z
DTEND:20251205T220000Z
X-MICROSOFT-CDO-ALLDAYEVENT:FALSE
SUMMARY:Holly-WAOR Awards Holiday Social
DESCRIPTION:We are putting together silent auction baskets and would love to feature a donation from your business. A gift card\, product\, small basket\, or any contribution would be greatly appreciated and would help us raise funds for the families we serve.\n\n \n\nWe will gladly recognize your business in our event materials and social media\, and we can pick up the donation at a time that is convenient for you.\n\n \n\nThank you so much for considering supporting our community.\n\n \n\nPlease let me know if you have any questions or need more information.
X-ALT-DESC;FMTTYPE=text/html:We are putting together silent auction baskets and would love to feature a donation from your business. A gift card\, product\, small basket\, or any contribution would be greatly appreciated and would help us raise funds for the families we serve.<br />\n&nbsp\;<br />\nWe will gladly recognize your business in our event materials and social media\, and we can pick up the donation at a time that is convenient for you.<br />\n&nbsp\;<br />\nThank you so much for considering supporting our community.<br />\n&nbsp\;<br />\nPlease let me know if you have any questions or need more information.
LOCATION:Boulder Falls Inn
UID:e.2569.6107
SEQUENCE:3
DTSTAMP:20260420T004047Z
URL:https://business.albanychamber.com/events/details/holly-waor-awards-holiday-social-6107
END:VEVENT

END:VCALENDAR
