BEGIN:VCALENDAR
VERSION:2.0
PRODID:-//ChamberMaster//Event Calendar 2.0//EN
METHOD:PUBLISH
X-PUBLISHED-TTL:P3D
REFRESH-INTERVAL:P3D
CALSCALE:GREGORIAN
BEGIN:VEVENT
DTSTART:20260404T170000Z
DTEND:20260404T190000Z
X-MICROSOFT-CDO-ALLDAYEVENT:FALSE
SUMMARY:Hope in Bloom: Egg Hunt + Block Party
DESCRIPTION:Mark your calendars! We want to invite you to Hope in Bloom: Egg Hunt + Block Party a fun\, free family event for our whole community. Join us Saturday\, April 4th from 10am to 12 noon for a free egg hunt for babies through 5th grade\, with over 20\,000 pieces of candy to be given away! Plus\, we'll have a petting farm\, face painting\, games\, giveaways\, food vendors\, and The Brim Coffee on Wheels will be joining us! Bring your kids\, bring your friends\, bring your neighbors we can't wait to celebrate Easter together!
X-ALT-DESC;FMTTYPE=text/html:Mark your calendars! We want to invite you to Hope in Bloom: Egg Hunt + Block Party&mdash\;a fun\, free family event for our whole community. Join us Saturday\, April 4th from 10am to 12 noon for a free egg hunt for babies through 5th grade\, with over 20\,000 pieces of candy to be given away! Plus\, we&rsquo\;ll have a petting farm\, face painting\, games\, giveaways\, food vendors\, and The Brim Coffee on Wheels will be joining us! Bring your kids\, bring your friends\, bring your neighbors&mdash\;we can&rsquo\;t wait to celebrate Easter together!
LOCATION:Hope Church 2817 Santiam Hwy SE Albany\, OR 97322
UID:e.2569.6287
SEQUENCE:3
DTSTAMP:20260421T201722Z
URL:https://business.albanychamber.com/events/details/hope-in-bloom-egg-hunt-block-party-6287
END:VEVENT

END:VCALENDAR
