BEGIN:VCALENDAR
VERSION:2.0
PRODID:-//ChamberMaster//Event Calendar 2.0//EN
METHOD:PUBLISH
X-PUBLISHED-TTL:P3D
REFRESH-INTERVAL:P3D
CALSCALE:GREGORIAN
BEGIN:VEVENT
DTSTART:20251026T000000Z
DTEND:20251026T040000Z
X-MICROSOFT-CDO-ALLDAYEVENT:FALSE
SUMMARY:iCelebrate Kids
DESCRIPTION:iCelebrate Kids Benefit Gala - Auction Fundraiser\n\n\n\n\n\nSaturday\, October 25\, 2025\n\nLinn County Expo Center\n\nThe iCelebrate Kids Benefit Gala is an auction fundraiser and dinner to support the activities and programs of the Albany Public Schools Foundation. The evening includes a catered dinner\, silent and live auctions\, a wine pull\, and the famous Dessert Dash!\n\n\n\nRegistration Closes on October 22nd!\n\nhttps://albanypsf.org/events/icelebrate-kids-benefit-gala/\n\n\n\nCocktails & Silent Auction 5:00 PM\n\nDinner 6:30 PM\n\nLive Auction 7:00 PM\n\n\n\n\n\n	Live Auction\n	Silent Auction\n	Wine Pull\n	Raffle\n	Dessert Dash\n	Catered Dinner\n\n\n\n\n\nPlease note that iCelebrate Kids is a 21 and over event. \n\nATTIRE: Semi-Formal\n\nTICKETS: \n\n\n	$80 per person\n	$600 for a table of 8\n	BUSINESSES: Sponsor a table for $750 and get 8 guests & drink tickets + sponsorship benefits
X-ALT-DESC;FMTTYPE=text/html:<div>\n<div>\n<h1>iCelebrate Kids Benefit Gala - Auction Fundraiser</h1>\n</div>\n</div>\n\n<div>\n<div>\n<p><strong>Saturday\, October 25\, 2025</strong><br />\n<strong>Linn County Expo Center</strong></p>\n\n<p>The iCelebrate Kids Benefit Gala is an auction fundraiser and dinner to support the activities and programs of the Albany Public Schools Foundation. The evening includes a catered dinner\, silent and live auctions\, a wine pull\, and&nbsp\;<span style="background-color:transparent">the famous Dessert Dash!<br />\n<br />\n<strong>Registration Closes on October 22nd!</strong></span><br />\n<a href="https://albanypsf.org/events/icelebrate-kids-benefit-gala/">https://albanypsf.org/events/icelebrate-kids-benefit-gala/</a></p>\n\n<div>\n<div>\n<p><span style="font-size:inherit">Cocktails &amp\; Silent Auction 5:00 PM</span><br />\n<span style="font-size:inherit">Dinner 6:30 PM</span><br />\n<span style="font-size:inherit">Live Auction 7:00 PM</span></p>\n</div>\n</div>\n\n<div>\n<ul>\n	<li><span style="color:rgb(0\, 58\, 106)\; font-family:poppins\,sans-serif">Live Auction</span></li>\n	<li><span style="color:rgb(0\, 58\, 106)\; font-family:poppins\,sans-serif">Silent Auction</span></li>\n	<li><span style="color:rgb(0\, 58\, 106)\; font-family:poppins\,sans-serif">Wine Pull</span></li>\n	<li><span style="color:rgb(0\, 58\, 106)\; font-family:poppins\,sans-serif">Raffle</span></li>\n	<li><span style="color:rgb(0\, 58\, 106)\; font-family:poppins\,sans-serif">Dessert Dash</span></li>\n	<li><span style="color:rgb(0\, 58\, 106)\; font-family:poppins\,sans-serif">Catered Dinner</span></li>\n</ul>\n</div>\n\n<div>\n<div>\n<p><em>Please note that iCelebrate Kids is a 21 and over event.&nbsp\;</em></p>\n\n<p><strong>ATTIRE:</strong>&nbsp\;Semi-Formal</p>\n\n<p><strong>TICKETS:&nbsp\;</strong></p>\n\n<ul>\n	<li>$80 per person</li>\n	<li>$600 for a table of 8</li>\n	<li><em>BUSINESSES:</em>&nbsp\;Sponsor a table for $750 and get 8 guests &amp\; drink tickets + sponsorship benefits&nbsp\;</li>\n</ul>\n</div>\n</div>\n</div>\n</div>\n
LOCATION:Linn County Expo Center
UID:e.2569.6074
SEQUENCE:3
DTSTAMP:20260419T200959Z
URL:https://business.albanychamber.com/events/details/icelebrate-kids-10-25-2025-6074
END:VEVENT

END:VCALENDAR
