BEGIN:VCALENDAR
VERSION:2.0
PRODID:-//ChamberMaster//Event Calendar 2.0//EN
METHOD:PUBLISH
X-PUBLISHED-TTL:P3D
REFRESH-INTERVAL:P3D
CALSCALE:GREGORIAN
BEGIN:VEVENT
DTSTART:20220522T000000Z
DTEND:20220522T040000Z
X-MICROSOFT-CDO-ALLDAYEVENT:FALSE
SUMMARY:iCelebrate Kids
DESCRIPTION:The iCelebrate Kids Gala Event is an annual fundraiser the Albany Public Schools Foundation puts on to sustain its critical programs such as Scholarships\, Classroom Grants\, Educational Programs and more. The event includes live and silent auctions\, a wine pull\, the Dessert Dash\, a full course meal and more. Join us for an evening of fun and fundraising!
X-ALT-DESC;FMTTYPE=text/html:The iCelebrate Kids Gala Event is an annual fundraiser the Albany Public Schools Foundation puts on to sustain its critical programs such as Scholarships\, Classroom Grants\, Educational Programs and more. The event includes live and silent auctions\, a wine pull\, the Dessert Dash\, a full course meal and more. Join us for an evening of fun and fundraising!
LOCATION:Linn County Fair and Expo 3700 Knox Butte Rd E\, Albany\, OR 97322
UID:e.2569.3859
SEQUENCE:3
DTSTAMP:20260423T092303Z
URL:https://business.albanychamber.com/events/details/icelebrate-kids-3859
END:VEVENT

END:VCALENDAR
