BEGIN:VCALENDAR
VERSION:2.0
PRODID:-//ChamberMaster//Event Calendar 2.0//EN
METHOD:PUBLISH
X-PUBLISHED-TTL:P3D
REFRESH-INTERVAL:P3D
CALSCALE:GREGORIAN
BEGIN:VEVENT
DTSTART:20230321T190000Z
DTEND:20230321T200000Z
X-MICROSOFT-CDO-ALLDAYEVENT:FALSE
SUMMARY:Illuminating: Acupuncture and Chinese Medicine
DESCRIPTION:This series we will discuss how acupuncture helps the body heal itself. Review the yin and yang of the nervous system. Talk over Neuromodulation and why acupuncture is so effective for back pain\, rotator cuff tears\, knee osteoarthritis\, sciatica. There will also be discussion on selfcare strategies for reducing stress and building resilience.
X-ALT-DESC;FMTTYPE=text/html:This series we will discuss how acupuncture helps the body heal itself. Review the yin and yang of the nervous system. Talk over Neuromodulation and why acupuncture is so effective for back pain\, rotator cuff tears\, knee osteoarthritis\, sciatica. There will also be discussion on selfcare strategies for reducing stress and building resilience.
LOCATION:Virtual
UID:e.2569.4255
SEQUENCE:3
DTSTAMP:20260424T055406Z
URL:https://business.albanychamber.com/events/details/illuminating-acupuncture-and-chinese-medicine-4255
END:VEVENT

END:VCALENDAR
