BEGIN:VCALENDAR
VERSION:2.0
PRODID:-//ChamberMaster//Event Calendar 2.0//EN
METHOD:PUBLISH
X-PUBLISHED-TTL:P3D
REFRESH-INTERVAL:P3D
CALSCALE:GREGORIAN
BEGIN:VEVENT
DTSTART:20220517T190000Z
DTEND:20220517T200000Z
X-MICROSOFT-CDO-ALLDAYEVENT:FALSE
SUMMARY:Illuminating...Advance Care Planning: Your Health\, Your Way
DESCRIPTION:Take control of the important decisions that come at the end of life. Not only does planning ahead ensure your wishes are met\, it also reduces stress for your loved ones during an emotional time. Join one of the leading founders of the POLST form and Lumina's Director of Clinical Innovations for a deep dive into advance directives and POLST forms - and which is right for you. Registration required.
X-ALT-DESC;FMTTYPE=text/html:Take control of the important decisions that come at the end of life. Not only does planning ahead ensure your wishes are met\, it also reduces stress for your loved ones during an emotional time. Join one of the leading founders of the POLST form and Lumina&#39\;s Director of Clinical Innovations for a deep dive into advance directives and POLST forms - and which is right for you. Registration required.
LOCATION:Zoom
UID:e.2569.3857
SEQUENCE:3
DTSTAMP:20260423T092441Z
URL:https://business.albanychamber.com/events/details/illuminating-advance-care-planning-your-health-your-way-3857
END:VEVENT

END:VCALENDAR
