BEGIN:VCALENDAR
VERSION:2.0
PRODID:-//ChamberMaster//Event Calendar 2.0//EN
METHOD:PUBLISH
X-PUBLISHED-TTL:P3D
REFRESH-INTERVAL:P3D
CALSCALE:GREGORIAN
BEGIN:VEVENT
DTSTART:20250412T150000Z
DTEND:20250412T184500Z
X-MICROSOFT-CDO-ALLDAYEVENT:FALSE
SUMMARY:iSwim for Kids
DESCRIPTION:iSwim for Kids\n\nSaturday\, April 12th\, 2025\n\nAlbany Community Pool\n\n8am-11:45am\n\n\n\nEach year\, the Albany Public Schools Foundation hosts an iSwim for Kids event. Students obtain pledges for this event and swim at Albany Community Pool. Students who raise $40 or more in pledges will receive an event t-shirt.\n\nHalf of the proceeds raised (after expenses) in the iSwim for Kids event go directly back to the schools of the swimmers. The other half of the funds are distributed through our classroom grants program. These grants help enhance education opportunities for students throughout our district.\n\n\n\n\n\nPlease note that each participant will have to register separate from pledging.\n\n\n\nSponsorship Opportunities Available\n\nIf interested\, please email marketing@albanypsf.org or call 541-979-2773
X-ALT-DESC;FMTTYPE=text/html:<div>\n<div>\n<h1><span style="font-size:14px"><strong>iSwim for Kids</strong><br />\nSaturday\, April 12th\, 2025<br />\nAlbany Community Pool<br />\n8am-11:45am</span></h1>\n</div>\n\n<div>\n<p><span style="font-size:14px">Each year\, the Albany Public Schools Foundation hosts an iSwim for Kids event. Students obtain pledges for this event and swim at Albany Community Pool.&nbsp\;Students who raise $40 or more in pledges will receive an event t-shirt.</span></p>\n\n<p><span style="font-size:14px">Half of the proceeds raised (after expenses) in the iSwim for Kids event go directly back to the schools of the swimmers. The other half of the funds are distributed through our classroom grants program. These grants help enhance education opportunities for students throughout our district.</span></p>\n</div>\n</div>\n\n<div>\n<div>\n<p><span style="font-size:14px">Please note that each participant will have to register separate from pledging.</span><br />\n<br />\n<strong><span style="color:#FF0000">Sponsorship Opportunities Available</span></strong><br />\n<em>If interested\, please email marketing@albanypsf.org or call 541-979-2773</em></p>\n</div>\n</div>\n
LOCATION:Albany Community Pool 2150 36th Ave SE Albany\, OR 97321
UID:e.2569.4532
SEQUENCE:3
DTSTAMP:20260419T131911Z
URL:https://business.albanychamber.com/events/details/iswim-for-kids-04-12-2025-4532
END:VEVENT

END:VCALENDAR
