BEGIN:VCALENDAR
VERSION:2.0
PRODID:-//ChamberMaster//Event Calendar 2.0//EN
METHOD:PUBLISH
X-PUBLISHED-TTL:P3D
REFRESH-INTERVAL:P3D
CALSCALE:GREGORIAN
BEGIN:VEVENT
DTSTART:20190523T183000Z
DTEND:20190523T200000Z
X-MICROSOFT-CDO-ALLDAYEVENT:FALSE
SUMMARY:Longing to Belong
DESCRIPTION:Samaritan Evergreen Hospice is having a Hospice fundraising luncheon. Voted 2018 Top Doctor by Seattle Magazine\, Hope Wechkin\, MD\, medical director with Evergreenhealth presents Longing to Belong. Learn how hospice\, science and music can help us find a sense of belonging and deepen our relationships during a time of loss.
X-ALT-DESC;FMTTYPE=text/html:Samaritan Evergreen Hospice is having a Hospice fundraising luncheon. Voted 2018 Top Doctor by Seattle Magazine\, Hope Wechkin\, MD\, medical director with Evergreenhealth presents Longing to Belong. Learn how hospice\, science and music can help us find a sense of belonging and deepen our relationships during a time of loss.
LOCATION:Linn County Expo Center 3700 Knox Butte Road Albany\, OR 97321
UID:e.2569.3079
SEQUENCE:3
DTSTAMP:20260422T061036Z
URL:https://business.albanychamber.com/events/details/longing-to-belong-3079
END:VEVENT

END:VCALENDAR
