BEGIN:VCALENDAR
VERSION:2.0
PRODID:-//ChamberMaster//Event Calendar 2.0//EN
METHOD:PUBLISH
X-PUBLISHED-TTL:P3D
REFRESH-INTERVAL:P3D
CALSCALE:GREGORIAN
BEGIN:VEVENT
DTSTART:20251130T030000Z
DTEND:20251130T050000Z
X-MICROSOFT-CDO-ALLDAYEVENT:FALSE
SUMMARY:Lumina Rock Concert Benefit with Aaron Meyer
DESCRIPTION:Come Rock the Holidays with Us!\nJoin us for a fusion of classical and rock and help a great cause! All proceeds benefit Lumina Hospice & Palliative Care\, the local non-profit hospice provider serving Oregon's mid-Willamette Valley for 45 years. Lumina is thrilled to bring Aaron Meyer\, Concert Rock Violinist to Corvallis\, Oregon on Saturday November 29\, 2025! Inspired by a fusion of classical and rock\, Aaron's music features arrangements from Vivaldi to Led Zeppelin\; Aerosmith to Wieniawski\; and Mozart to Queen's Bohemian Rhapsody. Additionally young musicians from the Corvallis Youth Symphony Association will be part of the show! Collaboration with youth symphonies is a special addition to the Aaron Meyer Concert Rock Violinist\, Benefit for Lumina Hospice. They'll be performing alongside Aaron Meyer and his Concert Rock Academy\, which is committed to benefiting the lives of students\, families\, musicians\, and teachers through music education opportunities and performances. Not only does this concert benefit your local non-profit hospice provider it also benefits youth musicians! Feel the Beat\, Live the Moment!
X-ALT-DESC;FMTTYPE=text/html:<br />\n<strong>Come Rock the Holidays with Us!</strong>\n<p><span style="color:rgb(0\, 0\, 0)\; font-size:1.2em">Join us for a fusion of classical and rock and help a great cause!&nbsp\;All proceeds benefit Lumina Hospice &amp\; Palliative Care\, the local non-profit hospice provider serving Oregon&rsquo\;s mid-Willamette Valley for 45 years. Lumina is thrilled to bring Aaron Meyer\, Concert Rock Violinist to Corvallis\, Oregon on Saturday November 29\, 2025! Inspired by a fusion of classical and rock\, Aaron&rsquo\;s music features arrangements from Vivaldi to Led Zeppelin\; Aerosmith to Wieniawski\; and Mozart to Queen&rsquo\;s Bohemian Rhapsody. Additionally young musicians from the Corvallis Youth Symphony Association&nbsp\;will be part of the show! Collaboration with youth symphonies is a special addition to the&nbsp\;Aaron Meyer Concert Rock Violinist\, Benefit for Lumina Hospice. They&rsquo\;ll be performing alongside&nbsp\;Aaron Meyer&nbsp\;and his Concert Rock Academy\, which is committed to benefiting the lives of students\, families\, musicians\, and teachers through music education opportunities and performances. Not only does this concert benefit your local non-profit hospice provider it also benefits youth musicians! Feel the Beat\, Live the Moment!&nbsp\;</span></p>\n\n<div>&nbsp\;</div>\n
LOCATION:Ashbrook Independent School Corvallis\, 97330
UID:e.2569.6105
SEQUENCE:3
DTSTAMP:20260419T231043Z
URL:https://business.albanychamber.com/events/details/lumina-rock-concert-benefit-with-aaron-meyer-6105
END:VEVENT

END:VCALENDAR
