BEGIN:VCALENDAR
VERSION:2.0
PRODID:-//ChamberMaster//Event Calendar 2.0//EN
METHOD:PUBLISH
X-PUBLISHED-TTL:P3D
REFRESH-INTERVAL:P3D
CALSCALE:GREGORIAN
BEGIN:VEVENT
DTSTART:20260527T183000Z
DTEND:20260527T200000Z
X-MICROSOFT-CDO-ALLDAYEVENT:FALSE
SUMMARY:Membership Forum & Annual Meeting - May 2026
DESCRIPTION:Join us for the May Membership Forum Luncheon & Annual Meeting!\nWednesday\, May 27th\, 2026\n\n11:30am-1pm\n\nLinn County Expo Center\n\nSponsored By\n\nThis Could Be You!\n\n\n\nGuest Speaker\n\nScott Burns\, Geology Professor at PSU\n\n\n\nDonate a Door Prize for the Forum! (Members only)\n\nMust be worth $25 or more\, can be anything you want (gift baskets\, merch/swag\, wine\, gift certificates\, etc.)\n\nJust add under "Additional Items" at checkout. Someone from the Chamber will reach out to you about details. One door prize donation per member per forum. \n \n\n\nAbout Scott:\n\nScott Burns has been studying geological hazards around the world\, especially in Oregon and Washington\, for 50 years. He can talk about landslides\, earthquakes\, floods\, volcanoes\, radon\, and tsunamis\, as well as National Parks\, of which he has been teaching a course for 28 years\, and the relationship between soils\, climate\, grapes\, and wine.
X-ALT-DESC;FMTTYPE=text/html:<span style="color:#008000\;"><span style="font-size:36px\;"><span style="font-family:arial\;">Join us for the<strong>&nbsp\;May Membership Forum Luncheon &amp\; Annual Meeting!</strong></span></span></span>\n<div style="text-align: center\;"><span style="color:#000000\;"><strong><span style="font-family:arial\;"><span style="font-size:28px\;">Wednesday\,</span></span></strong><span style="font-family:arial\;"><span style="font-size:28px\;"><strong>&nbsp\;May 27th\, 2026</strong><br />\n11:30am-1pm<br />\nLinn County Expo Center<br />\n<u>Sponsored By</u></span></span></span><br />\n<b><i>This Could Be You!</i></b></div>\n\n<div>\n<hr /></div>\n<span style="color:#0000FF\;"><span style="font-family:arial\;"><span style="font-size:26px\;"><u><strong>Guest Speaker</strong></u></span></span></span><br />\n<span style="font-size:22px\;"><span class="a_GcMg font-feature-liga-off font-feature-clig-off font-feature-calt-off text-decoration-none text-strikethrough-none" style="color: rgba(0\,0\,0\,var(--O42jJQ\,1))\; caret-color: rgb(0\, 0\, 0)\; --Ys-XuQ: none\; font-kerning: none\;">Scott Burns\,&nbsp\;<em>Geology Professor at PSU</em></span></span><br />\n<br />\n<span style="font-size:22px\;"><span style="font-size:20px\;"><strong><span style="color:#FF0000\;"><u>Donate a Door Prize for the Forum! <em>(Members only)</em></u></span></strong></span></span>\n\n<div style="margin-left: 40px\;"><span style="font-size:22px\;"><span style="font-size:18px\;"><span style="font-size:16px\;">Must be worth $25 or more\, can be anything you want (gift baskets\, merch/swag\, wine\, gift certificates\, etc.)<br />\nJust add under &quot\;Additional Items&quot\; at checkout. Someone from the Chamber will reach out to you about details. One door prize donation per member per forum.&nbsp\;</span></span></span></div>\n&nbsp\;\n\n<hr />\n<p style="box-sizing: border-box\; -webkit-tap-highlight-color: rgba(0\, 0\, 0\, 0)\; margin: 0.5em 0px 1em\; padding: 0px\; color: rgb(100\, 117\, 133)\; font-family: hind\, helvetica\, arial\, sans-serif\; font-size: 20px\;">About Scott:<br />\n<span style="color: rgb(29\, 37\, 45)\; font-family: Montserrat\, sans-serif\; font-size: 16px\;">Scott Burns has&nbsp\;been studying geological hazards around the world\, especially in Oregon and Washington\, for 50 years. He can talk about landslides\, earthquakes\, floods\, volcanoes\, radon\, and tsunamis\, as well as&nbsp\;National Parks\, of which he has been teaching a course&nbsp\;for 28 years\, and&nbsp\;the relationship between soils\, climate\, grapes\, and wine.</span></p>\n
LOCATION:Linn County Expo Center
UID:e.2569.6318
SEQUENCE:3
DTSTAMP:20260420T205417Z
URL:https://business.albanychamber.com/events/details/membership-forum-annual-meeting-may-2026-6318
END:VEVENT

END:VCALENDAR
